BEGIN:VCALENDAR
VERSION:2.0
PRODID:-//ChamberMaster//Event Calendar 2.0//EN
METHOD:PUBLISH
X-PUBLISHED-TTL:P3D
REFRESH-INTERVAL:P3D
CALSCALE:GREGORIAN
BEGIN:VEVENT
DTSTART:20240819T170000Z
DTEND:20240819T180000Z
X-MICROSOFT-CDO-ALLDAYEVENT:FALSE
SUMMARY:Turkey Info Session
DESCRIPTION:Join us for a no-obligation virtual informational session from Noon-1PM on Monday\, August 19on the Chamber's upcoming Global Familiarization Trip to Turkey. The webinar will review the incredible itinerary packed with fascinating culture and history. A portion of the presentation will also be reserved for questions from interested travelers.\n\n\n\nThe trip will take place March 17-25\, 2025 and will offer an optional 3-day extension to Cappadocia.\n\n\n\nPlease register on this page (click the link under "not a member?"\, if necessary) or\, email akrull@masoncityia.com to receive the webinar link.
X-ALT-DESC;FMTTYPE=text/html:<span style="background-image: initial\; background-position: initial\; background-size: initial\; background-repeat: initial\; background-attachment: initial\; background-origin: initial\; background-clip: initial\;">Join us for a no-obligation virtual informational session&nbsp\;</span>from Noon-1PM on Monday\, August 19<span style="background-image: initial\; background-position: initial\; background-size: initial\; background-repeat: initial\; background-attachment: initial\; background-origin: initial\; background-clip: initial\;">on the Chamber&rsquo\;s upcoming Global Familiarization Trip to <a href="https://masoncityia.com/events-view/turkey/">Turkey</a>. The webinar will review the incredible itinerary packed with fascinating culture and history. A portion of the presentation will also be reserved for questions from interested travelers.<br />\n<br />\nThe trip will take place March 17-25\, 2025 and will offer an optional 3-day extension to Cappadocia.<br />\n<br />\nPlease register on this page (click the link under &quot\;not a member?&quot\;\, if necessary) or\, email akrull@masoncityia.com to receive the webinar link.</span>
LOCATION:Microsoft Teams meeting online (link will be sent after you sign up)
UID:e.706.13233
SEQUENCE:3
DTSTAMP:20260423T055801Z
URL:https://business.masoncityia.com/events/details/turkey-info-session-13233
END:VEVENT

END:VCALENDAR
