BEGIN:VCALENDAR
VERSION:2.0
PRODID:-//ChamberMaster//Event Calendar 2.0//EN
METHOD:PUBLISH
X-PUBLISHED-TTL:P3D
REFRESH-INTERVAL:P3D
CALSCALE:GREGORIAN
BEGIN:VEVENT
DTSTART:20200123T140000Z
DTEND:20200123T153000Z
X-MICROSOFT-CDO-ALLDAYEVENT:FALSE
SUMMARY:The State of North Iowa 2020
DESCRIPTION:The State of North Iowa is an opportunity to hear directly from city and county leadership from Mason City\, Clear Lake\, and Greater North Iowa as they highlight recent accomplishments\, outline future goals\, and offer ideas about current business and community issues. This event compliments the Vision North Iowa strategic planning efforts.\n\n\n\nAs an initiative of the county-wide strategic plan\, the Chamber will host an event this month to report to business leaders and citizens exactly which goals in the Vision North Iowa plan have been accomplished\, and what progress has been made on others.\n\n\n\nIn addition to a panel - which includes Mason City Mayor Bill Schickel\, Clear Lake Mayor Nelson Crabb\, County Supervisor Tim Latham\, and North Iowa Corridor EDC President Chad Schreck - two distinguished  state-wide leaders will share their perspective.\n\n\n\n  Debi Durham\, who will present the keynote address\, serves as Director of the Iowa Economic Development Authority and the Iowa Finance Authority.\n\n\n\n  Joe Murphy\, the Executive Director of the Iowa Business Council\, will share data points and metrics that serve as key indicators of economic growth.\n\n\n\nThe State of North Iowa breakfast is scheduled from 8-9:30AM on Thursday\, January 23 at the Mason City Arena and is sponsored by Clear Lake Bank & Trust.\n\n\n\n7:45AM    Buffet Breakfast in Club Room\n\n8:15AM    Welcome & Introductions\n\n8:20AM    State of North Iowa Video\n\n8:30AM    Keynote Address: Debi Durham\, Director of the Iowa Economic Development Authority and the Iowa Finance Authority.\n\n9AM          Panel Discussion of Local Leaders:  Joe Murphy\, Executive Director of the Iowa Business Council
X-ALT-DESC;FMTTYPE=text/html:The State of North Iowa is an opportunity to hear directly from city and county leadership from Mason City\, Clear Lake\, and Greater North Iowa as they highlight recent accomplishments\, outline future goals\, and offer ideas about current business and community issues. This event compliments the Vision North Iowa strategic planning efforts.<br />\n<br />\nAs an initiative of the county-wide strategic plan\, the Chamber will host an event this month to report to business leaders and citizens exactly which goals in the Vision North Iowa plan have been accomplished\, and what progress has been made on others.<br />\n<br />\nIn addition to a panel - which includes Mason City Mayor Bill Schickel\, Clear Lake Mayor Nelson Crabb\, County Supervisor Tim Latham\, and North Iowa Corridor EDC President Chad Schreck - two distinguished&nbsp\; state-wide leaders will share their perspective.<br />\n<br />\n&bull\; Debi Durham\, who will present the keynote address\, serves as Director of the Iowa Economic Development Authority and the Iowa Finance Authority.<br />\n<br />\n&bull\; Joe Murphy\, the Executive Director of the Iowa Business Council\, will share data points and metrics that serve as key indicators of economic growth.<br />\n<br />\nThe State of North Iowa breakfast is scheduled from 8-9:30AM on Thursday\, January 23 at the Mason City Arena and is sponsored by Clear Lake Bank &amp\; Trust.<br />\n<br />\n7:45AM&nbsp\;&nbsp\;&nbsp\;&nbsp\;Buffet Breakfast in Club Room<br />\n8:15AM&nbsp\; &nbsp\; Welcome &amp\; Introductions<br />\n8:20AM&nbsp\; &nbsp\; State of North Iowa Video<br />\n8:30AM&nbsp\; &nbsp\; Keynote Address: Debi Durham\,&nbsp\;Director of the Iowa Economic Development Authority and the Iowa Finance Authority.<br />\n9AM&nbsp\;&nbsp\;&nbsp\;&nbsp\;&nbsp\;&nbsp\;&nbsp\;&nbsp\;&nbsp\; Panel Discussion of Local Leaders:&nbsp\;&nbsp\;Joe Murphy\, Executive Director of the Iowa Business Council&nbsp\;\n<p class="ParagraphStyle1"><span style="color:windowtext"><o:p></o:p></span></p>\n
LOCATION:Mason City Arena 100 S Federal Mason City\, IA 50401
UID:e.706.9169
SEQUENCE:3
DTSTAMP:20260424T212527Z
URL:https://business.masoncityia.com/events/details/the-state-of-north-iowa-2020-9169
END:VEVENT

END:VCALENDAR
