BEGIN:VCALENDAR
VERSION:2.0
PRODID:-//ChamberMaster//Event Calendar 2.0//EN
METHOD:PUBLISH
X-PUBLISHED-TTL:P3D
REFRESH-INTERVAL:P3D
CALSCALE:GREGORIAN
BEGIN:VEVENT
DTSTART:20260820T163000Z
DTEND:20260820T173000Z
X-MICROSOFT-CDO-ALLDAYEVENT:FALSE
SUMMARY:Small Business Roundtable
DESCRIPTION:Join fellow chamber members for our small business roundtable discussions! These sessions provide a space to share challenges\, exchange ideas\, and explore solutions around any topics brought by participants\, which may include hiring\, marketing\, operations\, and more. Each month will rotate between a specific topic and open discussion.\n\n\n\nYour voice matters and the Chamber is listening. Your input will help shape programs and initiatives that support local businesses and strengthen Mason City's economy.\n\n\n\nAll Chamber members are welcome to attend at no cost. Participants are invited to bring their own lunch. Please register in advance.\n\n\n\nAugust topic: TBD
X-ALT-DESC;FMTTYPE=text/html:Join fellow chamber members for our small business roundtable discussions! These sessions provide a space to share challenges\, exchange ideas\, and explore solutions around any topics brought by participants\, which may include hiring\, marketing\, operations\, and more. Each month will rotate between a specific topic and open discussion.<br />\n<br />\nYour voice matters and the Chamber is listening. Your input will help shape programs and initiatives that support local businesses and strengthen Mason City&rsquo\;s economy.<br />\n<br />\nAll Chamber members are welcome to attend at no cost. Participants are invited to bring their own lunch. Please register in advance.<br />\n<br />\n<strong>August topic: TBD</strong>
LOCATION:Commerce Center
UID:e.706.14579
SEQUENCE:3
DTSTAMP:20260421T001515Z
URL:https://business.masoncityia.com/events/details/small-business-roundtable-08-20-2026-14579
END:VEVENT

END:VCALENDAR
