BEGIN:VCALENDAR
VERSION:2.0
PRODID:-//ChamberMaster//Event Calendar 2.0//EN
METHOD:PUBLISH
X-PUBLISHED-TTL:P3D
REFRESH-INTERVAL:P3D
CALSCALE:GREGORIAN
BEGIN:VEVENT
DTSTART:20180412T153000Z
DTEND:20180412T200000Z
X-MICROSOFT-CDO-ALLDAYEVENT:FALSE
SUMMARY:"Picture Day" with the Chamber
DESCRIPTION:A "selfie" is not a headshot. The Chamber will be hosting a "Picture Day" from 10:30AM-3PM on Thursday\, April 12\, 2018 on the third floor of the Commerce Center.\n\n\n\nChristy Adams from Best Impressions Photography will be taking professional headshots to use for business cards\, company newsletters\, use in your online profiles\, and more! Arrive a few minutes early and take advantage of Reflections Salon's last minute hair and makeup touch-ups!\n\n\n\n\n\nThe $30 fee includes professional sitting fee for the headshot and a digital copy of your photo. Each participant will take three photos and select one of the three for final retouching. \n\n\n\nPhotos are offered in 15-minute time slots of your choice (there will be 5 sittings per time slot). \n\n\n\nIf your business plans to send 10+ employees for professional portraits\, please contact the Chamber and we will work with the photographer to meet your needs.\n\n\n\nFor some helpful hints for professional headshots from Best Impressions Photography\, click here.
X-ALT-DESC;FMTTYPE=text/html:<br />\n<span style="font-family:calibri\,sans-serif\;"><span style="font-size:11.0pt\;">A &ldquo\;selfie&rdquo\; is not a headshot. The Chamber will be hosting a &ldquo\;Picture Day&rdquo\; from 10:30AM-3PM on Thursday\, April 12\, 2018 on the third floor of the Commerce Center.<br />\n<br />\nChristy Adams from Best Impressions Photography will be taking professional headshots to use for business cards\, company newsletters\, use in your online profiles\, and more! Ar</span></span>rive a few minutes early and take advantage of Reflections Salon&#39\;s last minute hair and makeup touch-ups!<br />\n<br />\n<br />\n<span style="font-family: calibri\, sans-serif\; font-size: 14.6667px\;">The $30 fee includes professional sitting fee for the headshot and a digital copy of your photo. Each participant will take three photos and select one of the three for final retouching</span><span style="font-family: calibri\, sans-serif\; font-size: 14.6667px\;">.&nbsp\;<br />\n<br />\nPhotos are offered in 15-minute time slots of your choice (there will be 5 sittings per time slot).&nbsp\;<br />\n<br />\n<em>If your business plans to send 10+ employees for professional portraits\, please contact the Chamber and we will work with the photographer to meet your needs.</em><br />\n<br />\nFor some helpful hints for professional headshots from Best Impressions Photography\, <a href="http://bestimpressionsmc.com/uncategorized/helpful-hints-for-professional-head-shots/">click here</a>.</span><br />\n<br />\n&nbsp\;
LOCATION:Commerce Center 9 N Federal Ave Mason City\, IA 50401
UID:e.706.5152
SEQUENCE:3
DTSTAMP:20260424T195420Z
URL:https://business.masoncityia.com/events/details/picture-day-with-the-chamber-5152
END:VEVENT

END:VCALENDAR
