BEGIN:VCALENDAR
VERSION:2.0
PRODID:-//ChamberMaster//Event Calendar 2.0//EN
METHOD:PUBLISH
X-PUBLISHED-TTL:P3D
REFRESH-INTERVAL:P3D
CALSCALE:GREGORIAN
BEGIN:VEVENT
DTSTART:20190110T150000Z
DTEND:20190110T210000Z
X-MICROSOFT-CDO-ALLDAYEVENT:FALSE
SUMMARY:Organized Audrey
DESCRIPTION:NIACC is pleased to welcome author\, speaker and productivity consultant\, Audrey Thomas. Join us on January 10th for one or both of these impactful seminars.
X-ALT-DESC;FMTTYPE=text/html:NIACC is pleased to welcome author\, speaker and productivity consultant\, Audrey Thomas. Join us on January 10th for one or both of these impactful seminars.
LOCATION:Muse Norris Conference Center - NIACC
UID:e.706.7616
SEQUENCE:3
DTSTAMP:20260420T094114Z
URL:https://business.masoncityia.com/events/details/organized-audrey-7616
END:VEVENT

END:VCALENDAR
