BEGIN:VCALENDAR
VERSION:2.0
PRODID:-//ChamberMaster//Event Calendar 2.0//EN
METHOD:PUBLISH
X-PUBLISHED-TTL:P3D
REFRESH-INTERVAL:P3D
CALSCALE:GREGORIAN
BEGIN:VEVENT
DTSTART:20251211T220000Z
DTEND:20251212T000000Z
X-MICROSOFT-CDO-ALLDAYEVENT:FALSE
SUMMARY:Operation Thank You 2025: "All Wrapped Up!"
DESCRIPTION:Operation Thank You is the Chamber's largest volunteer-driven event of the year! This networking event/annual holiday social gathering is scheduled from 4-6PM on Thursday\, December 11 at The Music Man Square.\n\n\n\nDuring Operation Thank You\, Chamber volunteers call on member businesses to say\, "Thank You" and deliver a packet containing the new Membership Directory\, CMO cards\, and other important information. The day concludes with Business After Hours from 4-6PM hosted by the Chamber of Commerce and First Citizens Bank. This year will be celebrated on the streetscape of The Music Man Square with the theme "All Wrapped Up". Members are invited to celebrate with live music\, 50/50 raffle\, door prizes\, and more!
X-ALT-DESC;FMTTYPE=text/html:<br />\nOperation Thank You is the Chamber&rsquo\;s largest volunteer-driven event of the year! This networking event/annual holiday social gathering is scheduled from 4-6PM on Thursday\, December 11 at The Music Man Square.<br />\n<br />\nDuring Operation Thank You\, Chamber volunteers call on member businesses to say\, &ldquo\;Thank You&rdquo\; and deliver a packet containing the new Membership Directory\, CMO cards\, and other important information. The day concludes with Business After Hours from 4-6PM hosted by the Chamber of Commerce and First Citizens Bank. This year will be celebrated on the streetscape of The Music Man Square with the theme &ldquo\;All Wrapped Up&rdquo\;. Members are invited to celebrate with live music\, 50/50 raffle\, door prizes\, and more!
LOCATION:The Music Main Square 308 S Pennsylvania Ave Mason City\, IA 50401
UID:e.706.14427
SEQUENCE:3
DTSTAMP:20260424T185205Z
URL:https://business.masoncityia.com/events/details/operation-thank-you-2025-all-wrapped-up-14427
END:VEVENT

END:VCALENDAR
