BEGIN:VCALENDAR
VERSION:2.0
PRODID:-//ChamberMaster//Event Calendar 2.0//EN
METHOD:PUBLISH
X-PUBLISHED-TTL:P3D
REFRESH-INTERVAL:P3D
CALSCALE:GREGORIAN
BEGIN:VEVENT
DTSTART;VALUE=DATE:20181206
DTEND;VALUE=DATE:20181207
TRANSP:TRANSPARENT
X-MICROSOFT-CDO-ALLDAYEVENT:TRUE
SUMMARY:Operation Thank You 2018
DESCRIPTION:Operation Thank You is our largest volunteer-driven event of the year! Chamber volunteers call on member businesses to say "Thank You" and deliver a packet containing the new Member Directory\, CMO cards\, and other important information. The event begins early in the morning with coffee and treats and is capped off with Business After Hours at the Commerce Center.
X-ALT-DESC;FMTTYPE=text/html:<p><span style="font-family:arial\;"><span style="font-size:16px\;"><em><strong>Operation Thank You</strong></em>&nbsp\;is our largest&nbsp\;volunteer-driven&nbsp\;event of the year! Chamber volunteers call on member businesses to say &ldquo\;Thank You&rdquo\; and deliver a packet containing the new Member Directory\, CMO cards\, and other important information. The event begins early in the morning with coffee and treats and is capped off with&nbsp\;<strong><em>Business After Hours</em></strong>&nbsp\;at the Commerce Center.&nbsp\;</span></span></p>\n
LOCATION:North Iowa Regional Commerce Center 3rd Floor Event Room
UID:e.706.4730
SEQUENCE:3
DTSTAMP:20260425T010004Z
URL:https://business.masoncityia.com/events/details/operation-thank-you-2018-4730
END:VEVENT

END:VCALENDAR
