BEGIN:VCALENDAR
VERSION:2.0
PRODID:-//ChamberMaster//Event Calendar 2.0//EN
METHOD:PUBLISH
X-PUBLISHED-TTL:P3D
REFRESH-INTERVAL:P3D
CALSCALE:GREGORIAN
BEGIN:VEVENT
DTSTART:20181104T150000Z
DTEND:20181104T220000Z
X-MICROSOFT-CDO-ALLDAYEVENT:FALSE
SUMMARY:Newman Catholic School's God's Portion Day
DESCRIPTION:The tradition continues with Newman Catholic School's annual God's Portion Day! Activities include: \n\nBake sale\, brunch\, live and silent auctions\, raffles\, kid's fun alley and more!\n\nBring the whole family for a day of fun throughout the school!\n\nStay tuned to www.newmancatholicfoundation.com/gpd for more details to come!
X-ALT-DESC;FMTTYPE=text/html:<span style="color:rgb(34\, 34\, 34)\; font-family:arimo\,sans-serif\; font-size:19.3703px">T</span><span style="color:rgb(34\, 34\, 34)\; font-family:arimo\,sans-serif\; font-size:19.3703px">h</span><span style="color:rgb(34\, 34\, 34)\; font-family:arimo\,sans-serif\; font-size:19.3703px">e</span><span style="color:rgb(34\, 34\, 34)\; font-family:arimo\,sans-serif\; font-size:19.3703px">&nbsp\;</span><span style="color:rgb(34\, 34\, 34)\; font-family:arimo\,sans-serif\; font-size:19.3703px">t</span><span style="color:rgb(34\, 34\, 34)\; font-family:arimo\,sans-serif\; font-size:19.3703px">r</span><span style="color:rgb(34\, 34\, 34)\; font-family:arimo\,sans-serif\; font-size:19.3703px">a</span><span style="color:rgb(34\, 34\, 34)\; font-family:arimo\,sans-serif\; font-size:19.3703px">d</span><span style="color:rgb(34\, 34\, 34)\; font-family:arimo\,sans-serif\; font-size:19.3703px">i</span><span style="color:rgb(34\, 34\, 34)\; font-family:arimo\,sans-serif\; font-size:19.3703px">t</span><span style="color:rgb(34\, 34\, 34)\; font-family:arimo\,sans-serif\; font-size:19.3703px">i</span><span style="color:rgb(34\, 34\, 34)\; font-family:arimo\,sans-serif\; font-size:19.3703px">o</span><span style="color:rgb(34\, 34\, 34)\; font-family:arimo\,sans-serif\; font-size:19.3703px">n</span><span style="color:rgb(34\, 34\, 34)\; font-family:arimo\,sans-serif\; font-size:19.3703px">&nbsp\;</span><span style="color:rgb(34\, 34\, 34)\; font-family:arimo\,sans-serif\; font-size:19.3703px">c</span><span style="color:rgb(34\, 34\, 34)\; font-family:arimo\,sans-serif\; font-size:19.3703px">o</span><span style="color:rgb(34\, 34\, 34)\; font-family:arimo\,sans-serif\; font-size:19.3703px">n</span><span style="color:rgb(34\, 34\, 34)\; font-family:arimo\,sans-serif\; font-size:19.3703px">t</span><span style="color:rgb(34\, 34\, 34)\; font-family:arimo\,sans-serif\; font-size:19.3703px">i</span><span style="color:rgb(34\, 34\, 34)\; font-family:arimo\,sans-serif\; font-size:19.3703px">n</span><span style="color:rgb(34\, 34\, 34)\; font-family:arimo\,sans-serif\; font-size:19.3703px">u</span><span style="color:rgb(34\, 34\, 34)\; font-family:arimo\,sans-serif\; font-size:19.3703px">e</span><span style="color:rgb(34\, 34\, 34)\; font-family:arimo\,sans-serif\; font-size:19.3703px">s</span><span style="color:rgb(34\, 34\, 34)\; font-family:arimo\,sans-serif\; font-size:19.3703px">&nbsp\;</span><span style="color:rgb(34\, 34\, 34)\; font-family:arimo\,sans-serif\; font-size:19.3703px">w</span><span style="color:rgb(34\, 34\, 34)\; font-family:arimo\,sans-serif\; font-size:19.3703px">i</span><span style="color:rgb(34\, 34\, 34)\; font-family:arimo\,sans-serif\; font-size:19.3703px">t</span><span style="color:rgb(34\, 34\, 34)\; font-family:arimo\,sans-serif\; font-size:19.3703px">h</span><span style="color:rgb(34\, 34\, 34)\; font-family:arimo\,sans-serif\; font-size:19.3703px">&nbsp\;Newman Catholic School&#39\;s&nbsp\;</span><span style="color:rgb(34\, 34\, 34)\; font-family:arimo\,sans-serif\; font-size:19.3703px">a</span><span style="color:rgb(34\, 34\, 34)\; font-family:arimo\,sans-serif\; font-size:19.3703px">n</span><span style="color:rgb(34\, 34\, 34)\; font-family:arimo\,sans-serif\; font-size:19.3703px">n</span><span style="color:rgb(34\, 34\, 34)\; font-family:arimo\,sans-serif\; font-size:19.3703px">u</span><span style="color:rgb(34\, 34\, 34)\; font-family:arimo\,sans-serif\; font-size:19.3703px">a</span><span style="color:rgb(34\, 34\, 34)\; font-family:arimo\,sans-serif\; font-size:19.3703px">l</span><span style="color:rgb(34\, 34\, 34)\; font-family:arimo\,sans-serif\; font-size:19.3703px">&nbsp\;</span><span style="color:rgb(34\, 34\, 34)\; font-family:arimo\,sans-serif\; font-size:19.3703px">G</span><span style="color:rgb(34\, 34\, 34)\; font-family:arimo\,sans-serif\; font-size:19.3703px">o</span><span style="color:rgb(34\, 34\, 34)\; font-family:arimo\,sans-serif\; font-size:19.3703px">d</span><span style="color:rgb(34\, 34\, 34)\; font-family:arimo\,sans-serif\; font-size:19.3703px">&#39\;</span><span style="color:rgb(34\, 34\, 34)\; font-family:arimo\,sans-serif\; font-size:19.3703px">s</span><span style="color:rgb(34\, 34\, 34)\; font-family:arimo\,sans-serif\; font-size:19.3703px">&nbsp\;</span><span style="color:rgb(34\, 34\, 34)\; font-family:arimo\,sans-serif\; font-size:19.3703px">P</span><span style="color:rgb(34\, 34\, 34)\; font-family:arimo\,sans-serif\; font-size:19.3703px">o</span><span style="color:rgb(34\, 34\, 34)\; font-family:arimo\,sans-serif\; font-size:19.3703px">r</span><span style="color:rgb(34\, 34\, 34)\; font-family:arimo\,sans-serif\; font-size:19.3703px">t</span><span style="color:rgb(34\, 34\, 34)\; font-family:arimo\,sans-serif\; font-size:19.3703px">i</span><span style="color:rgb(34\, 34\, 34)\; font-family:arimo\,sans-serif\; font-size:19.3703px">o</span><span style="color:rgb(34\, 34\, 34)\; font-family:arimo\,sans-serif\; font-size:19.3703px">n</span><span style="color:rgb(34\, 34\, 34)\; font-family:arimo\,sans-serif\; font-size:19.3703px">&nbsp\;</span><span style="color:rgb(34\, 34\, 34)\; font-family:arimo\,sans-serif\; font-size:19.3703px">D</span><span style="color:rgb(34\, 34\, 34)\; font-family:arimo\,sans-serif\; font-size:19.3703px">a</span><span style="color:rgb(34\, 34\, 34)\; font-family:arimo\,sans-serif\; font-size:19.3703px">y</span><span style="color:rgb(34\, 34\, 34)\; font-family:arimo\,sans-serif\; font-size:19.3703px">!</span><span style="color:rgb(34\, 34\, 34)\; font-family:arimo\,sans-serif\; font-size:19.3703px">&nbsp\;</span><span style="color:rgb(34\, 34\, 34)\; font-family:arimo\,sans-serif\; font-size:19.3703px">A</span><span style="color:rgb(34\, 34\, 34)\; font-family:arimo\,sans-serif\; font-size:19.3703px">c</span><span style="color:rgb(34\, 34\, 34)\; font-family:arimo\,sans-serif\; font-size:19.3703px">t</span><span style="color:rgb(34\, 34\, 34)\; font-family:arimo\,sans-serif\; font-size:19.3703px">i</span><span style="color:rgb(34\, 34\, 34)\; font-family:arimo\,sans-serif\; font-size:19.3703px">v</span><span style="color:rgb(34\, 34\, 34)\; font-family:arimo\,sans-serif\; font-size:19.3703px">i</span><span style="color:rgb(34\, 34\, 34)\; font-family:arimo\,sans-serif\; font-size:19.3703px">t</span><span style="color:rgb(34\, 34\, 34)\; font-family:arimo\,sans-serif\; font-size:19.3703px">i</span><span style="color:rgb(34\, 34\, 34)\; font-family:arimo\,sans-serif\; font-size:19.3703px">e</span><span style="color:rgb(34\, 34\, 34)\; font-family:arimo\,sans-serif\; font-size:19.3703px">s</span><span style="color:rgb(34\, 34\, 34)\; font-family:arimo\,sans-serif\; font-size:19.3703px">&nbsp\;</span><span style="color:rgb(34\, 34\, 34)\; font-family:arimo\,sans-serif\; font-size:19.3703px">i</span><span style="color:rgb(34\, 34\, 34)\; font-family:arimo\,sans-serif\; font-size:19.3703px">n</span><span style="color:rgb(34\, 34\, 34)\; font-family:arimo\,sans-serif\; font-size:19.3703px">c</span><span style="color:rgb(34\, 34\, 34)\; font-family:arimo\,sans-serif\; font-size:19.3703px">l</span><span style="color:rgb(34\, 34\, 34)\; font-family:arimo\,sans-serif\; font-size:19.3703px">u</span><span style="color:rgb(34\, 34\, 34)\; font-family:arimo\,sans-serif\; font-size:19.3703px">d</span><span style="color:rgb(34\, 34\, 34)\; font-family:arimo\,sans-serif\; font-size:19.3703px">e</span><span style="color:rgb(34\, 34\, 34)\; font-family:arimo\,sans-serif\; font-size:19.3703px">:</span><span style="color:rgb(34\, 34\, 34)\; font-family:arimo\,sans-serif\; font-size:19.3703px">&nbsp\;<br />\nB</span><span style="color:rgb(34\, 34\, 34)\; font-family:arimo\,sans-serif\; font-size:19.3703px">a</span><span style="color:rgb(34\, 34\, 34)\; font-family:arimo\,sans-serif\; font-size:19.3703px">k</span><span style="color:rgb(34\, 34\, 34)\; font-family:arimo\,sans-serif\; font-size:19.3703px">e</span><span style="color:rgb(34\, 34\, 34)\; font-family:arimo\,sans-serif\; font-size:19.3703px">&nbsp\;</span><span style="color:rgb(34\, 34\, 34)\; font-family:arimo\,sans-serif\; font-size:19.3703px">s</span><span style="color:rgb(34\, 34\, 34)\; font-family:arimo\,sans-serif\; font-size:19.3703px">a</span><span style="color:rgb(34\, 34\, 34)\; font-family:arimo\,sans-serif\; font-size:19.3703px">l</span><span style="color:rgb(34\, 34\, 34)\; font-family:arimo\,sans-serif\; font-size:19.3703px">e</span><span style="color:rgb(34\, 34\, 34)\; font-family:arimo\,sans-serif\; font-size:19.3703px">\,</span><span style="color:rgb(34\, 34\, 34)\; font-family:arimo\,sans-serif\; font-size:19.3703px">&nbsp\;</span><span style="color:rgb(34\, 34\, 34)\; font-family:arimo\,sans-serif\; font-size:19.3703px">b</span><span style="color:rgb(34\, 34\, 34)\; font-family:arimo\,sans-serif\; font-size:19.3703px">r</span><span style="color:rgb(34\, 34\, 34)\; font-family:arimo\,sans-serif\; font-size:19.3703px">u</span><span style="color:rgb(34\, 34\, 34)\; font-family:arimo\,sans-serif\; font-size:19.3703px">n</span><span style="color:rgb(34\, 34\, 34)\; font-family:arimo\,sans-serif\; font-size:19.3703px">c</span><span style="color:rgb(34\, 34\, 34)\; font-family:arimo\,sans-serif\; font-size:19.3703px">h</span><span style="color:rgb(34\, 34\, 34)\; font-family:arimo\,sans-serif\; font-size:19.3703px">\,</span><span style="color:rgb(34\, 34\, 34)\; font-family:arimo\,sans-serif\; font-size:19.3703px">&nbsp\;</span><span style="color:rgb(34\, 34\, 34)\; font-family:arimo\,sans-serif\; font-size:19.3703px">l</span><span style="color:rgb(34\, 34\, 34)\; font-family:arimo\,sans-serif\; font-size:19.3703px">i</span><span style="color:rgb(34\, 34\, 34)\; font-family:arimo\,sans-serif\; font-size:19.3703px">v</span><span style="color:rgb(34\, 34\, 34)\; font-family:arimo\,sans-serif\; font-size:19.3703px">e</span><span style="color:rgb(34\, 34\, 34)\; font-family:arimo\,sans-serif\; font-size:19.3703px">&nbsp\;</span><span style="color:rgb(34\, 34\, 34)\; font-family:arimo\,sans-serif\; font-size:19.3703px">a</span><span style="color:rgb(34\, 34\, 34)\; font-family:arimo\,sans-serif\; font-size:19.3703px">n</span><span style="color:rgb(34\, 34\, 34)\; font-family:arimo\,sans-serif\; font-size:19.3703px">d</span><span style="color:rgb(34\, 34\, 34)\; font-family:arimo\,sans-serif\; font-size:19.3703px">&nbsp\;</span><span style="color:rgb(34\, 34\, 34)\; font-family:arimo\,sans-serif\; font-size:19.3703px">s</span><span style="color:rgb(34\, 34\, 34)\; font-family:arimo\,sans-serif\; font-size:19.3703px">i</span><span style="color:rgb(34\, 34\, 34)\; font-family:arimo\,sans-serif\; font-size:19.3703px">l</span><span style="color:rgb(34\, 34\, 34)\; font-family:arimo\,sans-serif\; font-size:19.3703px">e</span><span style="color:rgb(34\, 34\, 34)\; font-family:arimo\,sans-serif\; font-size:19.3703px">n</span><span style="color:rgb(34\, 34\, 34)\; font-family:arimo\,sans-serif\; font-size:19.3703px">t</span><span style="color:rgb(34\, 34\, 34)\; font-family:arimo\,sans-serif\; font-size:19.3703px">&nbsp\;</span><span style="color:rgb(34\, 34\, 34)\; font-family:arimo\,sans-serif\; font-size:19.3703px">a</span><span style="color:rgb(34\, 34\, 34)\; font-family:arimo\,sans-serif\; font-size:19.3703px">u</span><span style="color:rgb(34\, 34\, 34)\; font-family:arimo\,sans-serif\; font-size:19.3703px">c</span><span style="color:rgb(34\, 34\, 34)\; font-family:arimo\,sans-serif\; font-size:19.3703px">t</span><span style="color:rgb(34\, 34\, 34)\; font-family:arimo\,sans-serif\; font-size:19.3703px">i</span><span style="color:rgb(34\, 34\, 34)\; font-family:arimo\,sans-serif\; font-size:19.3703px">o</span><span style="color:rgb(34\, 34\, 34)\; font-family:arimo\,sans-serif\; font-size:19.3703px">n</span><span style="color:rgb(34\, 34\, 34)\; font-family:arimo\,sans-serif\; font-size:19.3703px">s</span><span style="color:rgb(34\, 34\, 34)\; font-family:arimo\,sans-serif\; font-size:19.3703px">\,</span><span style="color:rgb(34\, 34\, 34)\; font-family:arimo\,sans-serif\; font-size:19.3703px">&nbsp\;</span><span style="color:rgb(34\, 34\, 34)\; font-family:arimo\,sans-serif\; font-size:19.3703px">r</span><span style="color:rgb(34\, 34\, 34)\; font-family:arimo\,sans-serif\; font-size:19.3703px">a</span><span style="color:rgb(34\, 34\, 34)\; font-family:arimo\,sans-serif\; font-size:19.3703px">f</span><span style="color:rgb(34\, 34\, 34)\; font-family:arimo\,sans-serif\; font-size:19.3703px">f</span><span style="color:rgb(34\, 34\, 34)\; font-family:arimo\,sans-serif\; font-size:19.3703px">l</span><span style="color:rgb(34\, 34\, 34)\; font-family:arimo\,sans-serif\; font-size:19.3703px">e</span><span style="color:rgb(34\, 34\, 34)\; font-family:arimo\,sans-serif\; font-size:19.3703px">s</span><span style="color:rgb(34\, 34\, 34)\; font-family:arimo\,sans-serif\; font-size:19.3703px">\,</span><span style="color:rgb(34\, 34\, 34)\; font-family:arimo\,sans-serif\; font-size:19.3703px">&nbsp\;</span><span style="color:rgb(34\, 34\, 34)\; font-family:arimo\,sans-serif\; font-size:19.3703px">ki</span><span style="color:rgb(34\, 34\, 34)\; font-family:arimo\,sans-serif\; font-size:19.3703px">d</span><span style="color:rgb(34\, 34\, 34)\; font-family:arimo\,sans-serif\; font-size:19.3703px">&#39\;</span><span style="color:rgb(34\, 34\, 34)\; font-family:arimo\,sans-serif\; font-size:19.3703px">s</span><span style="color:rgb(34\, 34\, 34)\; font-family:arimo\,sans-serif\; font-size:19.3703px">&nbsp\;</span><span style="color:rgb(34\, 34\, 34)\; font-family:arimo\,sans-serif\; font-size:19.3703px">f</span><span style="color:rgb(34\, 34\, 34)\; font-family:arimo\,sans-serif\; font-size:19.3703px">u</span><span style="color:rgb(34\, 34\, 34)\; font-family:arimo\,sans-serif\; font-size:19.3703px">n</span><span style="color:rgb(34\, 34\, 34)\; font-family:arimo\,sans-serif\; font-size:19.3703px">&nbsp\;</span><span style="color:rgb(34\, 34\, 34)\; font-family:arimo\,sans-serif\; font-size:19.3703px">a</span><span style="color:rgb(34\, 34\, 34)\; font-family:arimo\,sans-serif\; font-size:19.3703px">l</span><span style="color:rgb(34\, 34\, 34)\; font-family:arimo\,sans-serif\; font-size:19.3703px">l</span><span style="color:rgb(34\, 34\, 34)\; font-family:arimo\,sans-serif\; font-size:19.3703px">e</span><span style="color:rgb(34\, 34\, 34)\; font-family:arimo\,sans-serif\; font-size:19.3703px">y</span><span style="color:rgb(34\, 34\, 34)\; font-family:arimo\,sans-serif\; font-size:19.3703px">&nbsp\;</span><span style="color:rgb(34\, 34\, 34)\; font-family:arimo\,sans-serif\; font-size:19.3703px">a</span><span style="color:rgb(34\, 34\, 34)\; font-family:arimo\,sans-serif\; font-size:19.3703px">n</span><span style="color:rgb(34\, 34\, 34)\; font-family:arimo\,sans-serif\; font-size:19.3703px">d</span><span style="color:rgb(34\, 34\, 34)\; font-family:arimo\,sans-serif\; font-size:19.3703px">&nbsp\;</span><span style="color:rgb(34\, 34\, 34)\; font-family:arimo\,sans-serif\; font-size:19.3703px">m</span><span style="color:rgb(34\, 34\, 34)\; font-family:arimo\,sans-serif\; font-size:19.3703px">o</span><span style="color:rgb(34\, 34\, 34)\; font-family:arimo\,sans-serif\; font-size:19.3703px">r</span><span style="color:rgb(34\, 34\, 34)\; font-family:arimo\,sans-serif\; font-size:19.3703px">e</span><span style="color:rgb(34\, 34\, 34)\; font-family:arimo\,sans-serif\; font-size:19.3703px">!</span><br />\n<span style="color:rgb(34\, 34\, 34)\; font-family:arimo\,sans-serif\; font-size:19.3703px">B</span><span style="color:rgb(34\, 34\, 34)\; font-family:arimo\,sans-serif\; font-size:19.3703px">r</span><span style="color:rgb(34\, 34\, 34)\; font-family:arimo\,sans-serif\; font-size:19.3703px">i</span><span style="color:rgb(34\, 34\, 34)\; font-family:arimo\,sans-serif\; font-size:19.3703px">n</span><span style="color:rgb(34\, 34\, 34)\; font-family:arimo\,sans-serif\; font-size:19.3703px">g</span><span style="color:rgb(34\, 34\, 34)\; font-family:arimo\,sans-serif\; font-size:19.3703px">&nbsp\;</span><span style="color:rgb(34\, 34\, 34)\; font-family:arimo\,sans-serif\; font-size:19.3703px">t</span><span style="color:rgb(34\, 34\, 34)\; font-family:arimo\,sans-serif\; font-size:19.3703px">h</span><span style="color:rgb(34\, 34\, 34)\; font-family:arimo\,sans-serif\; font-size:19.3703px">e</span><span style="color:rgb(34\, 34\, 34)\; font-family:arimo\,sans-serif\; font-size:19.3703px">&nbsp\;</span><span style="color:rgb(34\, 34\, 34)\; font-family:arimo\,sans-serif\; font-size:19.3703px">w</span><span style="color:rgb(34\, 34\, 34)\; font-family:arimo\,sans-serif\; font-size:19.3703px">h</span><span style="color:rgb(34\, 34\, 34)\; font-family:arimo\,sans-serif\; font-size:19.3703px">o</span><span style="color:rgb(34\, 34\, 34)\; font-family:arimo\,sans-serif\; font-size:19.3703px">l</span><span style="color:rgb(34\, 34\, 34)\; font-family:arimo\,sans-serif\; font-size:19.3703px">e</span><span style="color:rgb(34\, 34\, 34)\; font-family:arimo\,sans-serif\; font-size:19.3703px">&nbsp\;</span><span style="color:rgb(34\, 34\, 34)\; font-family:arimo\,sans-serif\; font-size:19.3703px">f</span><span style="color:rgb(34\, 34\, 34)\; font-family:arimo\,sans-serif\; font-size:19.3703px">a</span><span style="color:rgb(34\, 34\, 34)\; font-family:arimo\,sans-serif\; font-size:19.3703px">m</span><span style="color:rgb(34\, 34\, 34)\; font-family:arimo\,sans-serif\; font-size:19.3703px">i</span><span style="color:rgb(34\, 34\, 34)\; font-family:arimo\,sans-serif\; font-size:19.3703px">l</span><span style="color:rgb(34\, 34\, 34)\; font-family:arimo\,sans-serif\; font-size:19.3703px">y</span><span style="color:rgb(34\, 34\, 34)\; font-family:arimo\,sans-serif\; font-size:19.3703px">&nbsp\;</span><span style="color:rgb(34\, 34\, 34)\; font-family:arimo\,sans-serif\; font-size:19.3703px">f</span><span style="color:rgb(34\, 34\, 34)\; font-family:arimo\,sans-serif\; font-size:19.3703px">o</span><span style="color:rgb(34\, 34\, 34)\; font-family:arimo\,sans-serif\; font-size:19.3703px">r</span><span style="color:rgb(34\, 34\, 34)\; font-family:arimo\,sans-serif\; font-size:19.3703px">&nbsp\;</span><span style="color:rgb(34\, 34\, 34)\; font-family:arimo\,sans-serif\; font-size:19.3703px">a</span><span style="color:rgb(34\, 34\, 34)\; font-family:arimo\,sans-serif\; font-size:19.3703px">&nbsp\;</span><span style="color:rgb(34\, 34\, 34)\; font-family:arimo\,sans-serif\; font-size:19.3703px">d</span><span style="color:rgb(34\, 34\, 34)\; font-family:arimo\,sans-serif\; font-size:19.3703px">a</span><span style="color:rgb(34\, 34\, 34)\; font-family:arimo\,sans-serif\; font-size:19.3703px">y</span><span style="color:rgb(34\, 34\, 34)\; font-family:arimo\,sans-serif\; font-size:19.3703px">&nbsp\;</span><span style="color:rgb(34\, 34\, 34)\; font-family:arimo\,sans-serif\; font-size:19.3703px">o</span><span style="color:rgb(34\, 34\, 34)\; font-family:arimo\,sans-serif\; font-size:19.3703px">f</span><span style="color:rgb(34\, 34\, 34)\; font-family:arimo\,sans-serif\; font-size:19.3703px">&nbsp\;</span><span style="color:rgb(34\, 34\, 34)\; font-family:arimo\,sans-serif\; font-size:19.3703px">f</span><span style="color:rgb(34\, 34\, 34)\; font-family:arimo\,sans-serif\; font-size:19.3703px">u</span><span style="color:rgb(34\, 34\, 34)\; font-family:arimo\,sans-serif\; font-size:19.3703px">n</span><span style="color:rgb(34\, 34\, 34)\; font-family:arimo\,sans-serif\; font-size:19.3703px">&nbsp\;</span><span style="color:rgb(34\, 34\, 34)\; font-family:arimo\,sans-serif\; font-size:19.3703px">t</span><span style="color:rgb(34\, 34\, 34)\; font-family:arimo\,sans-serif\; font-size:19.3703px">h</span><span style="color:rgb(34\, 34\, 34)\; font-family:arimo\,sans-serif\; font-size:19.3703px">r</span><span style="color:rgb(34\, 34\, 34)\; font-family:arimo\,sans-serif\; font-size:19.3703px">o</span><span style="color:rgb(34\, 34\, 34)\; font-family:arimo\,sans-serif\; font-size:19.3703px">u</span><span style="color:rgb(34\, 34\, 34)\; font-family:arimo\,sans-serif\; font-size:19.3703px">g</span><span style="color:rgb(34\, 34\, 34)\; font-family:arimo\,sans-serif\; font-size:19.3703px">h</span><span style="color:rgb(34\, 34\, 34)\; font-family:arimo\,sans-serif\; font-size:19.3703px">o</span><span style="color:rgb(34\, 34\, 34)\; font-family:arimo\,sans-serif\; font-size:19.3703px">u</span><span style="color:rgb(34\, 34\, 34)\; font-family:arimo\,sans-serif\; font-size:19.3703px">t</span><span style="color:rgb(34\, 34\, 34)\; font-family:arimo\,sans-serif\; font-size:19.3703px">&nbsp\;</span><span style="color:rgb(34\, 34\, 34)\; font-family:arimo\,sans-serif\; font-size:19.3703px">t</span><span style="color:rgb(34\, 34\, 34)\; font-family:arimo\,sans-serif\; font-size:19.3703px">h</span><span style="color:rgb(34\, 34\, 34)\; font-family:arimo\,sans-serif\; font-size:19.3703px">e</span><span style="color:rgb(34\, 34\, 34)\; font-family:arimo\,sans-serif\; font-size:19.3703px">&nbsp\;</span><span style="color:rgb(34\, 34\, 34)\; font-family:arimo\,sans-serif\; font-size:19.3703px">s</span><span style="color:rgb(34\, 34\, 34)\; font-family:arimo\,sans-serif\; font-size:19.3703px">c</span><span style="color:rgb(34\, 34\, 34)\; font-family:arimo\,sans-serif\; font-size:19.3703px">h</span><span style="color:rgb(34\, 34\, 34)\; font-family:arimo\,sans-serif\; font-size:19.3703px">o</span><span style="color:rgb(34\, 34\, 34)\; font-family:arimo\,sans-serif\; font-size:19.3703px">o</span><span style="color:rgb(34\, 34\, 34)\; font-family:arimo\,sans-serif\; font-size:19.3703px">l</span><span style="color:rgb(34\, 34\, 34)\; font-family:arimo\,sans-serif\; font-size:19.3703px">!<br />\nStay tuned to www.newmancatholicfoundation.com/gpd for more details to come!</span><br />\n&nbsp\;
LOCATION:Newman Catholic High School Gymnasium 2445 19th Street SW Mason City\, IA 50401
UID:e.706.5334
SEQUENCE:3
DTSTAMP:20260425T133742Z
URL:https://business.masoncityia.com/events/details/newman-catholic-school-s-god-s-portion-day-11-04-2018-5334
END:VEVENT

END:VCALENDAR
