BEGIN:VCALENDAR
VERSION:2.0
PRODID:-//ChamberMaster//Event Calendar 2.0//EN
METHOD:PUBLISH
X-PUBLISHED-TTL:P3D
REFRESH-INTERVAL:P3D
CALSCALE:GREGORIAN
BEGIN:VEVENT
DTSTART:20160308T180000Z
DTEND:20160308T190000Z
X-MICROSOFT-CDO-ALLDAYEVENT:FALSE
SUMMARY:Lunch & Learn: "2016 is the year I take our worksite wellness program to the next level!"
DESCRIPTION:****This event has been postponed****\n\n\n\n"2016 is the year I....?"\n\n\n\nWhat are your personal and professional goals for the new year?  The Chamber of Commerce is sponsoring a series of Lunch & Learns in 2016\, with the goal of providing targeted educational opportunities to our busy Chamber members.  Each session will include a light lunch and approximately one hour of instruction.\n\n\n\n"2016 is the year I take our worksite wellness program to the next level!"  Nearly 40 Mason City employers have signed on as Blue Zones Worksites\, and many more are interested in the process.  This is a chance to learn what's working in other businesses\, and take new ideas back to your company.
X-ALT-DESC;FMTTYPE=text/html:<span style="font-size:14px\;"><strong><em>****This event has been postponed****</em><br />\n<br />\n&quot\;2016 is the year I....?&quot\;</strong></span><br />\n<br />\nWhat are your personal and professional goals for the new year? &nbsp\;The Chamber of Commerce is sponsoring a series of <strong><em>Lunch &amp\; Learns</em></strong> in 2016\, with the goal of providing targeted&nbsp\;educational opportunities to our busy Chamber members. &nbsp\;Each session will include a light lunch and approximately one hour of instruction.<br />\n<br />\n<strong>&quot\;2016 is the year I take our worksite wellness program to the next level!&quot\;</strong>&nbsp\; Nearly 40 Mason City employers have signed on as Blue Zones Worksites\, and&nbsp\;many more are interested in the process. &nbsp\;This is a chance to learn what&#39\;s working in other businesses\, and take new ideas back to your company.
LOCATION:North Iowa Regional Commerce Center 9 N Federal Avenue Mason City\, IA 50401
UID:e.706.3327
SEQUENCE:3
DTSTAMP:20260424T205631Z
URL:https://business.masoncityia.com/events/details/lunch-learn-2016-is-the-year-i-take-our-worksite-wellness-program-to-the-next-level-03-08-2016-3327
END:VEVENT

END:VCALENDAR
