BEGIN:VCALENDAR
VERSION:2.0
PRODID:-//ChamberMaster//Event Calendar 2.0//EN
METHOD:PUBLISH
X-PUBLISHED-TTL:P3D
REFRESH-INTERVAL:P3D
CALSCALE:GREGORIAN
BEGIN:VEVENT
DTSTART:20160223T180000Z
DTEND:20160223T190000Z
X-MICROSOFT-CDO-ALLDAYEVENT:FALSE
SUMMARY:Lunch & Learn: "2016 is the year I move to a standing workstation!"
DESCRIPTION:"2016 is the year I....?"\n\n\n\nWhat are your personal and professional goals for the new year?  The Chamber of Commerce is sponsoring a series of Lunch & Learns in 2016\, with the goal of providing targeted educational opportunities to our busy Chamber members.  Each session will include a light lunch and approximately one hour of instruction.\n\n\n\n"2016 is the year I move to a standing workstation!"  You've likely heard about the benefits of getting up out of your chair and spending more time on your feet at work.  This is your chance to learn more about standing workstations\, and how to transform your desk -- no matter what your budget might be. Chad Kozitza\, from the Mercy Medical Center - North Iowa Safety\, Health & Wellness department\, will discuss why you should make this the year you stand more than you sit.
X-ALT-DESC;FMTTYPE=text/html:<span style="font-size:14px\;"><strong>&quot\;2016 is the year I....?&quot\;</strong></span><br />\n<br />\nWhat are your personal and professional goals for the new year? &nbsp\;The Chamber of Commerce is sponsoring a series of <strong><em>Lunch &amp\; Learns</em></strong> in 2016\, with the goal of providing targeted&nbsp\;educational opportunities to our busy Chamber members. &nbsp\;Each session will include a light lunch and approximately one hour of instruction.<br />\n<br />\n<strong>&quot\;2016 is the year I move to a standing workstation!&quot\;</strong>&nbsp\; You&#39\;ve likely heard about the benefits of getting up out of your chair and spending more time on your feet at work. &nbsp\;This is your chance to learn more about standing workstations\, and how to transform your desk -- no matter what your budget might be. Chad Kozitza\,&nbsp\;from the Mercy Medical Center - North Iowa Safety\, Health &amp\; Wellness department\, will discuss why you should make this the year you stand more than you sit.
LOCATION:North Iowa Regional Commerce Center 9 N Federal Avenue Mason City\, IA 50401
UID:e.706.3326
SEQUENCE:3
DTSTAMP:20260424T212409Z
URL:https://business.masoncityia.com/events/details/lunch-learn-2016-is-the-year-i-move-to-a-standing-workstation-02-23-2016-3326
END:VEVENT

END:VCALENDAR
