BEGIN:VCALENDAR
VERSION:2.0
PRODID:-//ChamberMaster//Event Calendar 2.0//EN
METHOD:PUBLISH
X-PUBLISHED-TTL:P3D
REFRESH-INTERVAL:P3D
CALSCALE:GREGORIAN
BEGIN:VEVENT
DTSTART:20160209T180000Z
DTEND:20160209T190000Z
X-MICROSOFT-CDO-ALLDAYEVENT:FALSE
SUMMARY:Lunch & Learn: "2016 is the year I discover the benefits of a diverse workforce!"
DESCRIPTION:"2016 is the year I....?"\n\n\n\nWhat are your personal and professional goals for the new year?  The Chamber of Commerce is sponsoring a series of Lunch & Learns in 2016\, with the goal of providing targeted educational opportunities to our busy Chamber members.  Each session will include a light lunch and approximately one hour of instruction.\n\n\n\n"2016 is the year I discover the benefits of a diverse workforce!"  Are you looking for dedicated\, dependable employees?  Opportunity Village will discuss the value of expanding your search to include a more diverse pool of candidates.
X-ALT-DESC;FMTTYPE=text/html:<span style="font-size:14px\;"><strong>&quot\;2016 is the year I....?&quot\;</strong></span><br />\n<br />\nWhat are your personal and professional goals for the new year? &nbsp\;The Chamber of Commerce is sponsoring a series of <strong><em>Lunch &amp\; Learns</em></strong> in 2016\, with the goal of providing targeted&nbsp\;educational opportunities to our busy Chamber members. &nbsp\;Each session will include a light lunch and approximately one hour of instruction.<br />\n<br />\n<strong>&quot\;2016 is the year I discover the benefits of a diverse workforce!&quot\;</strong>&nbsp\; Are you looking for dedicated\, dependable employees? &nbsp\;Opportunity Village will discuss the value of expanding your search to include a more diverse pool of candidates. &nbsp\;
LOCATION:North Iowa Regional Commerce Center 9 N Federal Avenue Mason City\, IA 50401
UID:e.706.3317
SEQUENCE:3
DTSTAMP:20260424T210320Z
URL:https://business.masoncityia.com/events/details/lunch-learn-2016-is-the-year-i-discover-the-benefits-of-a-diverse-workforce-02-09-2016-3317
END:VEVENT

END:VCALENDAR
