BEGIN:VCALENDAR
VERSION:2.0
PRODID:-//ChamberMaster//Event Calendar 2.0//EN
METHOD:PUBLISH
X-PUBLISHED-TTL:P3D
REFRESH-INTERVAL:P3D
CALSCALE:GREGORIAN
BEGIN:VEVENT
DTSTART:20180410T170000Z
DTEND:20180410T180000Z
X-MICROSOFT-CDO-ALLDAYEVENT:FALSE
SUMMARY:Lunch and Learn: Improve Your Social Media Footprint
DESCRIPTION:Social media footprints by Market #360 --\n\nJoin us for the 2018 Lunch & Learn Management Series sponsored by The Chamber of Commerce. This management Series has a goal of providing targeted educational opportunities to our busy Chamber members. Each session will include a light lunch and approximately one hour of instruction.\n\n\n\nMiriah Whitehurst\, Owner\, Market #360 - Miriah's tagline is her business takes concepts to commerce. She is a web designer\, content creator and brand strategist. She doesn't just develop and create brands\, she partners and grows with her clients needs. She believes in locally made products\, startups\, and founders with true passion for what they do.
X-ALT-DESC;FMTTYPE=text/html:<strong>Social media footprints by Market #360 --</strong><br />\nJoin us for the 2018 Lunch &amp\; Learn Management Series sponsored by The Chamber of Commerce. This management Series has a goal of providing targeted educational opportunities to our busy Chamber members. Each session will include a light lunch and approximately one hour of instruction.<br />\n<br />\n<strong><u>Miriah&nbsp\;Whitehurst\, Owner\, Market #360</u></strong> - Miriah&#39\;s&nbsp\;tagline is her business takes concepts to commerce. She is a<span style="font-family: times new roman\;"><span style="font-size: 14px\;"><span style="text-align: center\;">&nbsp\;web designer\, content creator and brand strategist. She doesn&#39\;t just develop and create brands\, she partners and grows with her clients needs.&nbsp\;</span><span style="text-align: center\;">She believes in locally made products\, startups\, and founders with true passion for what they do.</span></span></span><br />\n&nbsp\;
LOCATION:North Iowa Regional Commerce Center 9 N Federal Avenue Mason City\, IA 50401
UID:e.706.4737
SEQUENCE:3
DTSTAMP:20260425T152841Z
URL:https://business.masoncityia.com/events/details/lunch-and-learn-improve-your-social-media-footprint-4737
END:VEVENT

END:VCALENDAR
