BEGIN:VCALENDAR
VERSION:2.0
PRODID:-//ChamberMaster//Event Calendar 2.0//EN
METHOD:PUBLISH
X-PUBLISHED-TTL:P3D
REFRESH-INTERVAL:P3D
CALSCALE:GREGORIAN
BEGIN:VEVENT
DTSTART:20180313T170000Z
DTEND:20180313T180000Z
X-MICROSOFT-CDO-ALLDAYEVENT:FALSE
SUMMARY:Lunch and Learn: How to Implement a Worksite Wellness Program
DESCRIPTION:How to implement worksite wellness by Metalcraft --\n\nJoin us for the 2018 Lunch & Learn Management Series sponsored by The Chamber of Commerce. This management Series has a goal of providing targeted educational opportunities to our busy Chamber members. Each session will include a light lunch and approximately one hour of instruction.\n\n\n\nSteve Doerfler\, CEO/President\, Metalcraft Inc - Metalcraft recently won the Chamber's 2017 Workplace Wellness Award. The Metalcraft wellness team implements programs that educate\, treat and motivate their employees to succeed. They have an on-site Pain Specialist available\, ergonomics training\, biometric screenings\, flu shots\, and many team-centered activities. Metalcraft sets a great example of the valuable well-being practices employers can provide to workers in the community. Steve will share his top tip's to a successful healthy workplace.
X-ALT-DESC;FMTTYPE=text/html:<strong>How to implement worksite wellness by Metalcraft --</strong><br />\nJoin us for the 2018 Lunch &amp\; Learn Management Series sponsored by The Chamber of Commerce. This management Series has a goal of providing targeted educational opportunities to our busy Chamber members. Each session will include a light lunch and approximately one hour of instruction.<br />\n<br />\n<strong><u>Steve Doerfler\, CEO/President\, Metalcraft&nbsp\;Inc</u></strong> - Metalcraft recently won the Chamber&#39\;s 2017 Workplace Wellness Award.&nbsp\;The Metalcraft wellness team implements programs that educate\, treat and motivate their employees to succeed. They have an on-site Pain Specialist available\, ergonomics training\, biometric screenings\, flu shots\, and many team-centered activities. Metalcraft sets a great example of the valuable well-being practices employers can provide to workers in the community. Steve will share his top tip&#39\;s to a successful healthy workplace.<br />\n<br />\n&nbsp\;
LOCATION:North Iowa Regional Commerce Center 9 N Federal Avenue Mason City\, IA 50401
UID:e.706.4738
SEQUENCE:3
DTSTAMP:20260422T081117Z
URL:https://business.masoncityia.com/events/details/lunch-and-learn-how-to-implement-a-worksite-wellness-program-4738
END:VEVENT

END:VCALENDAR
