BEGIN:VCALENDAR
VERSION:2.0
PRODID:-//ChamberMaster//Event Calendar 2.0//EN
METHOD:PUBLISH
X-PUBLISHED-TTL:P3D
REFRESH-INTERVAL:P3D
CALSCALE:GREGORIAN
BEGIN:VEVENT
DTSTART:20180327T170000Z
DTEND:20180327T180000Z
X-MICROSOFT-CDO-ALLDAYEVENT:FALSE
SUMMARY:Lunch and Learn: Dress for Success!
DESCRIPTION:CANCELLED\n\n\n\nProfessionalism in the Workplace by Moorman Clothiers--\n\nJoin us for the 2018 Lunch & Learn Management Series sponsored by The Chamber of Commerce. This management Series has a goal of providing targeted educational opportunities to our busy Chamber members. Each session will include a light lunch and approximately one hour of instruction.\n\n\n\nScott Moorman\, Owner\, Moorman Clothiers - Scott Moorman is an expert when it comes to professionalism in the workplace. He will explain what to wear to a casual business dinner\, morning coffee meeting\, executive board meeting and many more scenarios. If you're not sure which tie to wear with what jacket bring it to the event to get an expert opinion.
X-ALT-DESC;FMTTYPE=text/html:<strong>CANCELLED<br />\n<br />\nProfessionalism in the Workplace by Moorman Clothiers--</strong><br />\nJoin us for the 2018 Lunch &amp\; Learn Management Series sponsored by The Chamber of Commerce. This management Series has a goal of providing targeted educational opportunities to our busy Chamber members. Each session will include a light lunch and approximately one hour of instruction.<br />\n<br />\n<strong><u>Scott Moorman\, Owner\, Moorman&nbsp\;Clothiers</u></strong>&nbsp\;- Scott Moorman&nbsp\;is an expert when it comes to professionalism in the workplace. He will explain what to wear to a casual business dinner\, morning coffee meeting\, executive board meeting and many more scenarios. If you&#39\;re not sure which tie to wear with what jacket bring it to the event to get an expert opinion.<br />\n&nbsp\;
LOCATION:North Iowa Regional Commerce Center 9 N Federal Avenue Mason City\, IA 50401
UID:e.706.4736
SEQUENCE:3
DTSTAMP:20260424T183717Z
URL:https://business.masoncityia.com/events/details/lunch-and-learn-dress-for-success-4736
END:VEVENT

END:VCALENDAR
