BEGIN:VCALENDAR
VERSION:2.0
PRODID:-//ChamberMaster//Event Calendar 2.0//EN
METHOD:PUBLISH
X-PUBLISHED-TTL:P3D
REFRESH-INTERVAL:P3D
CALSCALE:GREGORIAN
BEGIN:VEVENT
DTSTART:20180302T000000Z
DTEND:20180302T010000Z
X-MICROSOFT-CDO-ALLDAYEVENT:FALSE
SUMMARY:Japan Information Session
DESCRIPTION:Join the Chamber for a no-obligation information session at 6PM on Thursday\, March 1 at the Commerce Center. Come to this special presentation to learn more about this outstanding global familiarization trip to Japan! \n\n\n\nThis 12-day in-depth trip highlights the history\, mystique\, cuisine\, architecture\, and culture of fascinating Japan. Tour famous Frank Lloyd Wright structures\, explore the modern and historic landmarks of Tokyo\, experience the spectacular views of Mt. Fuji\, and discover historical Kyoto.
X-ALT-DESC;FMTTYPE=text/html:<span style="background-image:initial\;background-position:initial\;background-size:initial\;background-repeat:initial\;background-attachment:initial\;background-origin:initial\;background-clip:initial\;"><span style="color:black\;">Join the Chamber for a no-obligation information session at 6PM on Thursday\, March 1 at the Commerce Center. Come to this special presentation to learn more about this outstanding global familiarization trip to Japan!&nbsp\;</span></span><br />\n<br />\nThis 12-day in-depth trip highlights the history\, mystique\, cuisine\, architecture\, and culture of fascinating Japan. Tour famous Frank Lloyd Wright structures\, explore the modern and historic landmarks of Tokyo\, experience the spectacular views of Mt. Fuji\, and discover historical Kyoto.
LOCATION:Commerce Center - Board Room (2nd Floor) 9 N Federal Ave Mason City\, IA
UID:e.706.5010
SEQUENCE:3
DTSTAMP:20260424T205805Z
URL:https://business.masoncityia.com/events/details/japan-information-session-5010
END:VEVENT

END:VCALENDAR
