BEGIN:VCALENDAR
VERSION:2.0
PRODID:-//ChamberMaster//Event Calendar 2.0//EN
METHOD:PUBLISH
X-PUBLISHED-TTL:P3D
REFRESH-INTERVAL:P3D
CALSCALE:GREGORIAN
BEGIN:VEVENT
DTSTART:20151103T140000Z
DTEND:20151103T211500Z
X-MICROSOFT-CDO-ALLDAYEVENT:FALSE
SUMMARY:HRANI Employment Law Conference
DESCRIPTION:HRANI Employment Law Conference\n\n	White Collar Exemption/FLSA Update\n	Conducting Workplace Investigations\n	Social Media & Legal Implications for HR\n	Legal Update on Medical Marijuana\n	Smoke-Free Workplace\n\nClick Here for more information
X-ALT-DESC;FMTTYPE=text/html:HRANI Employment Law Conference\n<ul>\n	<li>White Collar Exemption/FLSA Update</li>\n	<li>Conducting Workplace Investigations</li>\n	<li>Social Media &amp\; Legal Implications for HR</li>\n	<li>Legal Update on Medical Marijuana</li>\n	<li>Smoke-Free Workplace</li>\n</ul>\n<a href="http://cloud.chambermaster.com/userfiles/UserFiles/chambers/706/File/11-3-15EmploymentLawFlyer.pdf" style="line-height: 20.8px\;">Click Here</a><span style="line-height: 20.8px\;">&nbsp\;</span>for more information
LOCATION:Knights of Columbus Hall 551 S Taft Ave Mason City\, IA
UID:e.706.3267
SEQUENCE:3
DTSTAMP:20260424T185216Z
URL:https://business.masoncityia.com/events/details/hrani-employment-law-conference-11-03-2015-3267
END:VEVENT

END:VCALENDAR
