BEGIN:VCALENDAR
VERSION:2.0
PRODID:-//ChamberMaster//Event Calendar 2.0//EN
METHOD:PUBLISH
X-PUBLISHED-TTL:P3D
REFRESH-INTERVAL:P3D
CALSCALE:GREGORIAN
BEGIN:VEVENT
DTSTART:20150622T180000Z
DTEND:20150623T010000Z
X-MICROSOFT-CDO-ALLDAYEVENT:FALSE
SUMMARY:Golf Outing 2015 AFTERNOON
DESCRIPTION:Public relations opportunities like this don't come along every day! The Chamber Golf Outing is the "can't miss" golf event each year for networking with North Iowa's decision makers. One four-person team registration includes cart\, green fees\, two meals (lunch and dinner)\, and door prizes. Register today!\n\n\n\nDownload a registration form HERE.
X-ALT-DESC;FMTTYPE=text/html:<div><span style="line-height: 119%\; font-size: 11pt\; language: en-us\;">Public relations opportunities like this don&rsquo\;t come along every day!&nbsp\;The </span><span style="line-height: 119%\; font-size: 11pt\; font-weight: bold\; language: en-us\;">Chamber Golf Outing</span><span style="line-height: 119%\; font-size: 11pt\; language: en-us\;"> is the &ldquo\;can&rsquo\;t miss&rdquo\; golf event each year for networking with North Iowa&rsquo\;s decision makers.&nbsp\;One four-person team registration includes cart\, green fees\, two meals (lunch and dinner)\, and door prizes.&nbsp\;Register today!</span><br />\n<br />\n<span style="line-height: 20.7999992370605px\;">Download a registration form&nbsp\;</span><a href="http://www.masoncityia.com/wp-content/uploads/2014/09/2015-Golf-Outing-Flyer-updated-4.15.15.pdf">HERE</a><span style="line-height: 20.7999992370605px\;">.</span></div>\n
LOCATION:Mason City Country Club 3331 19th St. SW Mason City\, Iowa
UID:e.706.3101
SEQUENCE:3
DTSTAMP:20260424T163432Z
URL:https://business.masoncityia.com/events/details/golf-outing-2015-afternoon-06-22-2015-3101
END:VEVENT

END:VCALENDAR
