BEGIN:VCALENDAR
VERSION:2.0
PRODID:-//ChamberMaster//Event Calendar 2.0//EN
METHOD:PUBLISH
X-PUBLISHED-TTL:P3D
REFRESH-INTERVAL:P3D
CALSCALE:GREGORIAN
BEGIN:VEVENT
DTSTART:20230917T010000Z
DTEND:20230917T010000Z
X-MICROSOFT-CDO-ALLDAYEVENT:FALSE
SUMMARY:Eric Hagen & Red River Revival @ Brix
DESCRIPTION:Eric Hagen & Red River Revival return to Brix!\n\nBased in Door County\, WI his well-rooted sound rings with perplexing authenticity\, suggesting he illegally phone-tapped into the wellspring at the heart of all timeless classics. Often praised for his powerful voice\, he can infuse a modern story with gospel-like depth.\n\n \n\nIn September 2022\, Hagen signed with one of the largest independent record labels in North America\, Spectra Music Group. His debut album\, "Revival"\, is out now on all streaming platforms and AMI jukeboxes at your favorite dive.\n\n \n\nAmericana UK gave the album a 9 out of 10 and said "'Revival' is emotionally challenging and beautiful. Savour this album slowly\, first listening to the careful mixture of music and mood\, then allowing yourself to be moved by the memories it revives while marvelling at the magic of the man who put it all together.\n\n \n\nRecently\, his song "Hope"\, was named as a semi-finalist in the current International songwriting Competition. He was also nominated for 3 WAMI Awards (Wisconsin Area Music Industry) including Bluegrass/Americana Artist of the Year\, Male Vocalist of the Year and for Folk & Blues Song of the Year.
X-ALT-DESC;FMTTYPE=text/html:<div class="xdj266r x11i5rnm xat24cr x1mh8g0r x1vvkbs" style="box-sizing: border-box\; border-width: 0px\; border-style: solid\; border-color: rgb(229\, 231\, 235)\; --tw-border-spacing-x: 0\; --tw-border-spacing-y: 0\; --tw-translate-x: 0\; --tw-translate-y: 0\; --tw-rotate: 0\; --tw-skew-x: 0\; --tw-skew-y: 0\; --tw-scale-x: 1\; --tw-scale-y: 1\; --tw-pan-x: \; --tw-pan-y: \; --tw-pinch-zoom: \; --tw-scroll-snap-strictness: proximity\; --tw-ordinal: \; --tw-slashed-zero: \; --tw-numeric-figure: \; --tw-numeric-spacing: \; --tw-numeric-fraction: \; --tw-ring-inset: \; --tw-ring-offset-width: 0px\; --tw-ring-offset-color: #fff\; --tw-ring-color: rgb(59 130 246 / .5)\; --tw-ring-offset-shadow: 0 0 #0000\; --tw-ring-shadow: 0 0 #0000\; --tw-shadow: 0 0 #0000\; --tw-shadow-colored: 0 0 #0000\; --tw-blur: \; --tw-brightness: \; --tw-contrast: \; --tw-grayscale: \; --tw-hue-rotate: \; --tw-invert: \; --tw-saturate: \; --tw-sepia: \; --tw-drop-shadow: \; --tw-backdrop-blur: \; --tw-backdrop-brightness: \; --tw-backdrop-contrast: \; --tw-backdrop-grayscale: \; --tw-backdrop-hue-rotate: \; --tw-backdrop-invert: \; --tw-backdrop-opacity: \; --tw-backdrop-saturate: \; --tw-backdrop-sepia: \; font-family: &quot\;Open Sans&quot\;\, sans-serif\; color: rgb(75\, 85\, 99)\; font-size: medium\;"><span style="font-size:14px\;"><span style="font-family:arial\;"><span style="color:#000000\;">Eric Hagen &amp\; Red River Revival return to Brix!</span></span></span></div>\n\n<div class="x11i5rnm xat24cr x1mh8g0r x1vvkbs xtlvy1s" style="box-sizing: border-box\; border-width: 0px\; border-style: solid\; border-color: rgb(229\, 231\, 235)\; --tw-border-spacing-x: 0\; --tw-border-spacing-y: 0\; --tw-translate-x: 0\; --tw-translate-y: 0\; --tw-rotate: 0\; --tw-skew-x: 0\; --tw-skew-y: 0\; --tw-scale-x: 1\; --tw-scale-y: 1\; --tw-pan-x: \; --tw-pan-y: \; --tw-pinch-zoom: \; --tw-scroll-snap-strictness: proximity\; --tw-ordinal: \; --tw-slashed-zero: \; --tw-numeric-figure: \; --tw-numeric-spacing: \; --tw-numeric-fraction: \; --tw-ring-inset: \; --tw-ring-offset-width: 0px\; --tw-ring-offset-color: #fff\; --tw-ring-color: rgb(59 130 246 / .5)\; --tw-ring-offset-shadow: 0 0 #0000\; --tw-ring-shadow: 0 0 #0000\; --tw-shadow: 0 0 #0000\; --tw-shadow-colored: 0 0 #0000\; --tw-blur: \; --tw-brightness: \; --tw-contrast: \; --tw-grayscale: \; --tw-hue-rotate: \; --tw-invert: \; --tw-saturate: \; --tw-sepia: \; --tw-drop-shadow: \; --tw-backdrop-blur: \; --tw-backdrop-brightness: \; --tw-backdrop-contrast: \; --tw-backdrop-grayscale: \; --tw-backdrop-hue-rotate: \; --tw-backdrop-invert: \; --tw-backdrop-opacity: \; --tw-backdrop-saturate: \; --tw-backdrop-sepia: \; font-family: &quot\;Open Sans&quot\;\, sans-serif\; color: rgb(75\, 85\, 99)\; font-size: medium\;"><span style="font-size:14px\;"><span style="font-family:arial\;"><span style="color:#000000\;">Based in Door County\, WI his well-rooted sound rings with perplexing authenticity\, suggesting he illegally phone-tapped into the wellspring at the heart of all timeless classics. Often praised for his powerful voice\, he can infuse a modern story with gospel-like depth.</span></span></span><br />\n&nbsp\;</div>\n\n<div class="x11i5rnm xat24cr x1mh8g0r x1vvkbs xtlvy1s" style="box-sizing: border-box\; border-width: 0px\; border-style: solid\; border-color: rgb(229\, 231\, 235)\; --tw-border-spacing-x: 0\; --tw-border-spacing-y: 0\; --tw-translate-x: 0\; --tw-translate-y: 0\; --tw-rotate: 0\; --tw-skew-x: 0\; --tw-skew-y: 0\; --tw-scale-x: 1\; --tw-scale-y: 1\; --tw-pan-x: \; --tw-pan-y: \; --tw-pinch-zoom: \; --tw-scroll-snap-strictness: proximity\; --tw-ordinal: \; --tw-slashed-zero: \; --tw-numeric-figure: \; --tw-numeric-spacing: \; --tw-numeric-fraction: \; --tw-ring-inset: \; --tw-ring-offset-width: 0px\; --tw-ring-offset-color: #fff\; --tw-ring-color: rgb(59 130 246 / .5)\; --tw-ring-offset-shadow: 0 0 #0000\; --tw-ring-shadow: 0 0 #0000\; --tw-shadow: 0 0 #0000\; --tw-shadow-colored: 0 0 #0000\; --tw-blur: \; --tw-brightness: \; --tw-contrast: \; --tw-grayscale: \; --tw-hue-rotate: \; --tw-invert: \; --tw-saturate: \; --tw-sepia: \; --tw-drop-shadow: \; --tw-backdrop-blur: \; --tw-backdrop-brightness: \; --tw-backdrop-contrast: \; --tw-backdrop-grayscale: \; --tw-backdrop-hue-rotate: \; --tw-backdrop-invert: \; --tw-backdrop-opacity: \; --tw-backdrop-saturate: \; --tw-backdrop-sepia: \; font-family: &quot\;Open Sans&quot\;\, sans-serif\; color: rgb(75\, 85\, 99)\; font-size: medium\;"><span style="font-size:14px\;"><span style="font-family:arial\;"><span style="color:#000000\;">In September 2022\, Hagen signed with one of the largest independent record labels in North America\, Spectra Music Group. His debut album\, &quot\;Revival&quot\;\, is out now on all streaming platforms and AMI jukeboxes at your favorite dive.</span></span></span><br />\n&nbsp\;</div>\n\n<div class="x11i5rnm xat24cr x1mh8g0r x1vvkbs xtlvy1s" style="box-sizing: border-box\; border-width: 0px\; border-style: solid\; border-color: rgb(229\, 231\, 235)\; --tw-border-spacing-x: 0\; --tw-border-spacing-y: 0\; --tw-translate-x: 0\; --tw-translate-y: 0\; --tw-rotate: 0\; --tw-skew-x: 0\; --tw-skew-y: 0\; --tw-scale-x: 1\; --tw-scale-y: 1\; --tw-pan-x: \; --tw-pan-y: \; --tw-pinch-zoom: \; --tw-scroll-snap-strictness: proximity\; --tw-ordinal: \; --tw-slashed-zero: \; --tw-numeric-figure: \; --tw-numeric-spacing: \; --tw-numeric-fraction: \; --tw-ring-inset: \; --tw-ring-offset-width: 0px\; --tw-ring-offset-color: #fff\; --tw-ring-color: rgb(59 130 246 / .5)\; --tw-ring-offset-shadow: 0 0 #0000\; --tw-ring-shadow: 0 0 #0000\; --tw-shadow: 0 0 #0000\; --tw-shadow-colored: 0 0 #0000\; --tw-blur: \; --tw-brightness: \; --tw-contrast: \; --tw-grayscale: \; --tw-hue-rotate: \; --tw-invert: \; --tw-saturate: \; --tw-sepia: \; --tw-drop-shadow: \; --tw-backdrop-blur: \; --tw-backdrop-brightness: \; --tw-backdrop-contrast: \; --tw-backdrop-grayscale: \; --tw-backdrop-hue-rotate: \; --tw-backdrop-invert: \; --tw-backdrop-opacity: \; --tw-backdrop-saturate: \; --tw-backdrop-sepia: \; font-family: &quot\;Open Sans&quot\;\, sans-serif\; color: rgb(75\, 85\, 99)\; font-size: medium\;"><span style="font-size:14px\;"><span style="font-family:arial\;"><span style="color:#000000\;">Americana UK gave the album a 9 out of 10 and said &quot\;&lsquo\;Revival&rsquo\; is emotionally challenging and beautiful. Savour this album slowly\, first listening to the careful mixture of music and mood\, then allowing yourself to be moved by the memories it revives while marvelling at the magic of the man who put it all together.</span></span></span><br />\n&nbsp\;</div>\n\n<div class="x11i5rnm xat24cr x1mh8g0r x1vvkbs xtlvy1s" style="box-sizing: border-box\; border-width: 0px\; border-style: solid\; border-color: rgb(229\, 231\, 235)\; --tw-border-spacing-x: 0\; --tw-border-spacing-y: 0\; --tw-translate-x: 0\; --tw-translate-y: 0\; --tw-rotate: 0\; --tw-skew-x: 0\; --tw-skew-y: 0\; --tw-scale-x: 1\; --tw-scale-y: 1\; --tw-pan-x: \; --tw-pan-y: \; --tw-pinch-zoom: \; --tw-scroll-snap-strictness: proximity\; --tw-ordinal: \; --tw-slashed-zero: \; --tw-numeric-figure: \; --tw-numeric-spacing: \; --tw-numeric-fraction: \; --tw-ring-inset: \; --tw-ring-offset-width: 0px\; --tw-ring-offset-color: #fff\; --tw-ring-color: rgb(59 130 246 / .5)\; --tw-ring-offset-shadow: 0 0 #0000\; --tw-ring-shadow: 0 0 #0000\; --tw-shadow: 0 0 #0000\; --tw-shadow-colored: 0 0 #0000\; --tw-blur: \; --tw-brightness: \; --tw-contrast: \; --tw-grayscale: \; --tw-hue-rotate: \; --tw-invert: \; --tw-saturate: \; --tw-sepia: \; --tw-drop-shadow: \; --tw-backdrop-blur: \; --tw-backdrop-brightness: \; --tw-backdrop-contrast: \; --tw-backdrop-grayscale: \; --tw-backdrop-hue-rotate: \; --tw-backdrop-invert: \; --tw-backdrop-opacity: \; --tw-backdrop-saturate: \; --tw-backdrop-sepia: \; font-family: &quot\;Open Sans&quot\;\, sans-serif\; color: rgb(75\, 85\, 99)\; font-size: medium\;"><span style="font-size:14px\;"><span style="font-family:arial\;"><span style="color:#000000\;">Recently\, his song &quot\;Hope&quot\;\, was named as a semi-finalist in the current International songwriting Competition. He was also nominated for 3 WAMI Awards (Wisconsin Area Music Industry) including Bluegrass/Americana Artist of the Year\, Male Vocalist of the Year and for Folk &amp\; Blues Song of the Year.</span></span></span></div>\n
LOCATION:Brix Wine & Whiskey 107 S Delaware Ave Mason City\, IA
UID:e.706.12699
SEQUENCE:3
DTSTAMP:20260423T002306Z
URL:https://business.masoncityia.com/events/details/eric-hagen-red-river-revival-brix-12699
END:VEVENT

END:VCALENDAR
