BEGIN:VCALENDAR
VERSION:2.0
PRODID:-//ChamberMaster//Event Calendar 2.0//EN
METHOD:PUBLISH
X-PUBLISHED-TTL:P3D
REFRESH-INTERVAL:P3D
CALSCALE:GREGORIAN
BEGIN:VEVENT
DTSTART:20220816T140000Z
DTEND:20220816T160000Z
X-MICROSOFT-CDO-ALLDAYEVENT:FALSE
SUMMARY:ECI: Unemployment 101 & Appeal Hearings
DESCRIPTION:The Mason City Employers' Council of Iowa will host Jennifer Beckman\, Administrative Law Judge\, Iowa Workforce Development.\n\n\n\nThis seminar will cover:\n\n	Overview of UI process including: Employer notice of claims\, Fact-finding interview process\, Employer tax/charges\n	Fraud detection\n	UI appeals hearings\n	Most common types of appeal issues\n	Recent Iowa court decisions that impact UI appeals\n	Recent IWD updates to procedures and law\n	Resources and Agency Contacts\n\nRegister to attend the event by clicking this link: Registration Link
X-ALT-DESC;FMTTYPE=text/html:The Mason City Employers&rsquo\; Council of Iowa will host Jennifer Beckman\, Administrative Law Judge\, Iowa Workforce Development.<br />\n<br />\nThis seminar will cover:\n<ul>\n	<li>Overview of UI process including: Employer notice of claims\, Fact-finding interview process\, Employer tax/charges</li>\n	<li>Fraud detection</li>\n	<li>UI appeals hearings</li>\n	<li>Most common types of appeal issues</li>\n	<li>Recent Iowa court decisions that impact UI appeals</li>\n	<li>Recent IWD updates to procedures and law</li>\n	<li>Resources and Agency Contacts</li>\n</ul>\nRegister to attend the event by clicking this link: <a href="https://www.eventbrite.com/e/unemployment-101-appeal-hearings-tickets-310067830227">Registration Link</a>
LOCATION:IowaWORKS 600 South Pierce Ave. Mason City\, IA 50401
UID:e.706.11154
SEQUENCE:3
DTSTAMP:20260423T224144Z
URL:https://business.masoncityia.com/events/details/eci-unemployment-101-appeal-hearings-11154
END:VEVENT

END:VCALENDAR
