BEGIN:VCALENDAR
VERSION:2.0
PRODID:-//ChamberMaster//Event Calendar 2.0//EN
METHOD:PUBLISH
X-PUBLISHED-TTL:P3D
REFRESH-INTERVAL:P3D
CALSCALE:GREGORIAN
BEGIN:VEVENT
DTSTART:20250915T180000Z
DTEND:20250915T183000Z
X-MICROSOFT-CDO-ALLDAYEVENT:FALSE
SUMMARY:Cuba Trip Info Session
DESCRIPTION:Join us as we journey to Cuba to one of the most captivating and culturally rich destinations in the world. Americans can once again travel to Cuba\, and the Chamber is offering an unforgettable\, fully compliant journey under the U.S. government's People-to-People Educational License. This program is a one-of-a-kind immersive cultural experience.\n\n\n\nLearn more about the trip at our no obligation info session at 1PM on Monday\, September 15 via zoom webinar.\n\n\n\nTo view the full itinerary and trip details\, please visit our website. Don't miss your chance to be part of this extraordinary adventure!
X-ALT-DESC;FMTTYPE=text/html:Join us as we journey to Cuba to one of the most captivating and culturally rich destinations in the world. Americans can once again travel to Cuba\, and the Chamber is offering an unforgettable\, fully compliant journey under the U.S. government&#39\;s People-to-People Educational License. This program is a&nbsp\;one-of-a-kind&nbsp\;immersive cultural experience.<br />\n<br />\n<strong>Learn more about the trip at our no obligation info session at 1PM on Monday\, September 15 via <a href="https://us02web.zoom.us/webinar/register/WN_PLywRSS0QEWUdpXxQytGEA">zoom webinar</a>.</strong><br />\n<br />\nTo view the full itinerary and trip details\, please visit our <a href="https://business.masoncityia.com/events/details/cuba-trip-info-session-13914?calendarMonth=2025-06-01">website</a>. Don&rsquo\;t miss your chance to be part of this extraordinary adventure!
LOCATION:Register here for the Zoom link.
UID:e.706.14401
SEQUENCE:3
DTSTAMP:20260424T160541Z
URL:https://business.masoncityia.com/events/details/cuba-trip-info-session-14401
END:VEVENT

END:VCALENDAR
