BEGIN:VCALENDAR
VERSION:2.0
PRODID:-//ChamberMaster//Event Calendar 2.0//EN
METHOD:PUBLISH
X-PUBLISHED-TTL:P3D
REFRESH-INTERVAL:P3D
CALSCALE:GREGORIAN
BEGIN:VEVENT
DTSTART:20250626T170000Z
DTEND:20250626T174500Z
X-MICROSOFT-CDO-ALLDAYEVENT:FALSE
SUMMARY:Cuba Trip Info Session
DESCRIPTION:Join us as we journey to Cuba to one of the most captivating and culturally rich destinations in the world. Americans can once again travel to Cuba\, and the Chamber is offering an unforgettable\, fully compliant journey under the U.S. government's "Support for the Cuban People" license. This program is a one-of-a-kind immersive cultural experience.\n\n\n\nLearn more about the trip at our no obligation info session at noon on Thursday\, June 26 via zoom webinar.\n\n\n\nTo view the full itinerary and trip details\, please visit our website. Don't miss your chance to be part of this extraordinary adventure!
X-ALT-DESC;FMTTYPE=text/html:Join us as we journey to Cuba to one of the most captivating and culturally rich destinations in the world. Americans can once again travel to Cuba\, and the Chamber is offering an unforgettable\, fully compliant journey under the U.S. government&#39\;s &ldquo\;Support for the Cuban People&rdquo\; license. This program is a&nbsp\;one-of-a-kind&nbsp\;immersive cultural experience.<br />\n<br />\n<strong>Learn more about the trip at our no obligation info session at noon on Thursday\, June 26 via <a href="http://us02web.zoom.us/webinar/register/WN_ulG8PY9ETe-ZrP-kBZLGHw">zoom webinar</a>.</strong><br />\n<br />\nTo view the full itinerary and trip details\, please visit our <a href="https://business.masoncityia.com/events/details/cuba-trip-info-session-13914?calendarMonth=2025-06-01">website</a>. Don&rsquo\;t miss your chance to be part of this extraordinary adventure!
LOCATION:Register here for the Zoom link.
UID:e.706.13914
SEQUENCE:3
DTSTAMP:20260424T172708Z
URL:https://business.masoncityia.com/events/details/cuba-trip-info-session-13914
END:VEVENT

END:VCALENDAR
