BEGIN:VCALENDAR
VERSION:2.0
PRODID:-//ChamberMaster//Event Calendar 2.0//EN
METHOD:PUBLISH
X-PUBLISHED-TTL:P3D
REFRESH-INTERVAL:P3D
CALSCALE:GREGORIAN
BEGIN:VEVENT
DTSTART:20260421T230000Z
DTEND:20260422T010000Z
X-MICROSOFT-CDO-ALLDAYEVENT:FALSE
SUMMARY:Cooking Demonstration - Roots Nutrition Counseling
DESCRIPTION:Join us at Roots on April 21 at 6 PM for a cooking demonstration! Jenn will share three unique and simple recipes using microgreens from Groovy Greens including microgreen meatballs and microgreen pasta salad.\n\nWe're excited to have Healthy Harvest of North Iowa in attendance to teach us about ways we can find ingredients locally!\n\nAttendees will receive each recipe\, a heavy sample to enjoy during the event (BYO drink -- wine is fine!) You'll go home knowing more about how to create tasteful & balanced recipes\, you'll have an understanding of the nutrient profile for each meal\, and we'll give you inspiration to use these recipes in new ways.\n\n \n\nGrab tickets here: https://www.rootsnutritioncounseling.com/shoproots
X-ALT-DESC;FMTTYPE=text/html:<div class="xdj266r x14z9mp xat24cr x1lziwak x1vvkbs" style="margin-inline: 0px\; overflow-wrap: break-word\; margin-bottom: 0px\; margin-top: 0px\; font-family: &quot\;Segoe UI Historic&quot\;\, &quot\;Segoe UI&quot\;\, Helvetica\, Arial\, sans-serif\; color: rgb(8\, 8\, 9)\; font-size: 15px\;"><span style="font-size:14px\;"><span style="font-family:arial\;">Join us at Roots on April 21 at 6 PM for a cooking demonstration! Jenn will share three unique and simple recipes using microgreens from Groovy Greens including microgreen meatballs and microgreen pasta salad.</span></span></div>\n\n<div class="x14z9mp xat24cr x1lziwak x1vvkbs xtlvy1s" style="margin-inline: 0px\; overflow-wrap: break-word\; margin-bottom: 0px\; margin-top: 0.5em\; font-family: &quot\;Segoe UI Historic&quot\;\, &quot\;Segoe UI&quot\;\, Helvetica\, Arial\, sans-serif\; color: rgb(8\, 8\, 9)\; font-size: 15px\;"><span style="font-size:14px\;"><span style="font-family:arial\;">We&#39\;re excited to have Healthy Harvest of North Iowa in attendance to teach us about ways we can find ingredients locally!</span></span></div>\n\n<div class="x14z9mp xat24cr x1lziwak x1vvkbs xtlvy1s" style="margin-inline: 0px\; overflow-wrap: break-word\; margin-bottom: 0px\; margin-top: 0.5em\; font-family: &quot\;Segoe UI Historic&quot\;\, &quot\;Segoe UI&quot\;\, Helvetica\, Arial\, sans-serif\; color: rgb(8\, 8\, 9)\; font-size: 15px\;"><span style="font-size:14px\;"><span style="font-family:arial\;">Attendees will receive each recipe\, a heavy sample to enjoy during the event (BYO drink -- wine is fine!) You&#39\;ll go home knowing more about how to create tasteful &amp\; balanced recipes\, you&#39\;ll have an understanding of the nutrient profile for each meal\, and we&#39\;ll give you inspiration to use these recipes in new ways.</span></span></div>\n\n<div class="x14z9mp xat24cr x1lziwak x1vvkbs xtlvy1s" style="margin-inline: 0px\; overflow-wrap: break-word\; margin-bottom: 0px\; margin-top: 0.5em\; font-family: &quot\;Segoe UI Historic&quot\;\, &quot\;Segoe UI&quot\;\, Helvetica\, Arial\, sans-serif\; color: rgb(8\, 8\, 9)\; font-size: 15px\;">&nbsp\;</div>\n\n<div class="x14z9mp xat24cr x1lziwak x1vvkbs xtlvy1s" style="margin-inline: 0px\; overflow-wrap: break-word\; margin-bottom: 0px\; margin-top: 0.5em\; font-family: &quot\;Segoe UI Historic&quot\;\, &quot\;Segoe UI&quot\;\, Helvetica\, Arial\, sans-serif\; color: rgb(8\, 8\, 9)\; font-size: 15px\;"><span style="font-size:14px\;"><span style="font-family:arial\;">Grab tickets here:&nbsp\;<a attributionsrc="/privacy_sandbox/comet/register/source/?xt=AZZ1obYUpObqRbnrQBM2DbNYgYz3f1tHH9IizgFFW6ILYv0-qnBemtZUBpy_TcTFlhI2xL4V4phMSnBwynnlq_0DA4AalrlpZPCbzq8t7RM447tnXXYnlZVoAlZanDV1X7X7XSkZ5AR9nn1gLdvW2mfniSFIm8nZGdckK1DQ1Hiq051FnGe0nqgsaXAfKFcEqHbHIPiBtGpR5ioHs0gZJyv-6t_isacobJB1TnHGMCca1shESSZJMANvj5ZfXu_tGhwQXts2m6TSl0v7Qcvb3bXQnfxyGSG3OJEEKCJqkKSr8R6bzhZD3aHxRId5_Qwa295pmr_j0ZGCzbcGnMPZDuoooK7ONqnilADQrjxDNxfrAIWRRxfWBMDZMLk1hXY3s-QomZG9xKkdVl9xcwtIAxi_cArVWlzZhzjJ7QEANyewVI1emPRfUSJ8hyMOjWjuaMg-mND2gklUvHoFT3IqyO9AhK-C3gbv6N70Oc4upMpuvbxgolMdt3sbWmHujJQwExyDVyBVzYGCOkNIxgML6EK7SMiRa1O7wCmtPpZsIZrT1ZrUBjtozYGQEFZ1oxtwesRQojBJY9Ba5ZufRInnMnAF8ylOFwqqsEjGjRfZ7RUARR2OTziWH1UuzZgrIg_856Y2A1h6VmmGqUstH2Nc5h1Tfv6U8MiFjGJTThJpTYRZkC968IoO1-1ENC8KflOg6HL_53HxoaRSZeN4hxvOul1e1a5nlUIT1H5Mq8DBXO21Kte8b8mww90DRvHlu7HRPwI8CtYXi9ibdqSG_Wj7WACeYtIceXsOxH26yOPbF0BCl-oh-zgKEjPrh1YVilCcFqU1tTWWoa7e1iUM4JtBtPnjaycETdC-bLQXp9E015cyA0rmpHE5GrN_l6iepig2Vae_TWof3nnJCtfJZtBX-0rv" class="x1i10hfl xjbqb8w x1ejq31n x18oe1m7 x1sy0etr xstzfhl x972fbf x10w94by x1qhh985 x14e42zd x9f619 x1ypdohk xt0psk2 x3ct3a4 xdj266r x14z9mp xat24cr x1lziwak xexx8yu xyri2b x18d9i69 x1c1uobl x16tdsg8 x1hl2dhg xggy1nq x1a2a7pz xkrqix3 x1sur9pj x1fey0fg x1s688f" href="https://www.rootsnutritioncounseling.com/shoproots?fbclid=IwZXh0bgNhZW0CMTAAYnJpZBExM25zbkVHdXlWbW5iTnlNenNydGMGYXBwX2lkEDIyMjAzOTE3ODgyMDA4OTIAAR4u2cd-LqxBUbbBknedqfMcEgV5Qzk3TO2cNxRYNFshKJPfCnQrYi07KmfQHg_aem_8ipec9-_QL1oT1mJjkSeXA" rel="nofollow noreferrer" role="link" style="color: rgb(0\, 100\, 209)\; cursor: pointer\; text-decoration: none\; outline: none\; border-inline-width: 0px\; margin-inline: 0px\; text-align: inherit\; border-inline-style: none\; padding-inline: 0px\; -webkit-tap-highlight-color: transparent\; font-weight: 600\; list-style-type: none\; box-sizing: border-box\; touch-action: manipulation\; background-color: transparent\; display: inline\; padding-bottom: 0px\; border-top-style: none\; border-bottom-width: 0px\; border-bottom-style: none\; border-top-width: 0px\; margin-bottom: 0px\; margin-top: 0px\; padding-top: 0px\; font-family: inherit\;" tabindex="0" target="_blank">https://www.rootsnutritioncounseling.com/shoproots</a></span></span></div>\n
LOCATION:Roots Nutrition Counseling & More 211 N Federal Ave Mason City\, IA 50401
UID:e.706.14640
SEQUENCE:3
DTSTAMP:20260421T011151Z
URL:https://business.masoncityia.com/events/details/cooking-demonstration-roots-nutrition-counseling-14640
END:VEVENT

END:VCALENDAR
