BEGIN:VCALENDAR
VERSION:2.0
PRODID:-//ChamberMaster//Event Calendar 2.0//EN
METHOD:PUBLISH
X-PUBLISHED-TTL:P3D
REFRESH-INTERVAL:P3D
CALSCALE:GREGORIAN
BEGIN:VEVENT
DTSTART:20260226T213000Z
DTEND:20260227T020000Z
X-MICROSOFT-CDO-ALLDAYEVENT:FALSE
SUMMARY:Chamber Trivia Night 2026
DESCRIPTION:Do you have what it takes to be crowned the Chamber Trivia Night Champion? This fun networking event is scheduled for February 26\, from 3:30 8 PM. Teams of six will test their knowledge in an eight-round trivia competition\, complete with bonus questions between each round. Trivia questions will be completely random\, so anyone can participate!\n\nBetween rounds\, players can enjoy giveaways\, food and drinks\, and network with other teams. There will also be opportunities for door prizes and a 50/50 raffle so make sure to bring your money!\n\nThe first-place team will receive a Trivia Night trophy. The top three teams will walk away with cash! Come dressed in your very best for a chance to win Best Dressed and earn a gift card to a local restaurant for your team.\n\nSchedule:\n\n\n	\n	Check-in & Networking: 3:30 4 PM\n	\n	\n	Trivia Starts: 4 PM\n	\n	\n	Dinner: 5:45 PM
X-ALT-DESC;FMTTYPE=text/html:<p data-end="483" data-start="131">Do you have what it takes to be crowned the <strong data-end="208" data-start="175">Chamber Trivia Night Champion</strong>? This fun networking event is scheduled for <strong data-end="284" data-start="253">February 26\, from 3:30&ndash\;8 PM</strong>. Teams of six will test their knowledge in an eight-round trivia competition\, complete with bonus questions between each round. Trivia questions will be completely random\, so anyone can participate!</p>\n\n<p data-end="682" data-start="485">Between rounds\, players can enjoy giveaways\, food and drinks\, and network with other teams. There will also be opportunities for door prizes and a 50/50 raffle&mdash\;so make sure to bring your <strong data-end="681" data-start="672">money</strong>!</p>\n\n<p data-end="936" data-start="684">The first-place team will receive a <strong data-end="743" data-start="720">Trivia Night trophy</strong>. The <strong data-end="784" data-start="765">top three teams</strong> will walk away with cash! Come dressed in your very best for a chance to win <strong data-end="878" data-start="862">Best Dressed</strong> and earn a gift card to a local restaurant for your team.</p>\n\n<p data-end="953" data-start="938"><strong data-end="951" data-start="938">Schedule:</strong></p>\n\n<ul data-end="1046" data-start="954">\n	<li data-end="994" data-start="954">\n	<p data-end="994" data-start="956"><strong data-end="982" data-start="956">Check-in &amp\; Networking:</strong> 3:30&ndash\;4 PM</p>\n	</li>\n	<li data-end="1022" data-start="995">\n	<p data-end="1022" data-start="997"><strong data-end="1015" data-start="997">Trivia Starts:</strong> 4 PM</p>\n	</li>\n	<li data-end="1046" data-start="1023">\n	<p data-end="1046" data-start="1025"><strong data-end="1036" data-start="1025">Dinner:</strong> 5:45 PM</p>\n	</li>\n</ul>\n
LOCATION:The Music Man Square 308 S Pennsylvania Ave\, Mason City\, IA 50401
UID:e.706.14483
SEQUENCE:3
DTSTAMP:20260424T203757Z
URL:https://business.masoncityia.com/events/details/chamber-trivia-night-2026-14483
END:VEVENT

END:VCALENDAR
