BEGIN:VCALENDAR
VERSION:2.0
PRODID:-//ChamberMaster//Event Calendar 2.0//EN
METHOD:PUBLISH
X-PUBLISHED-TTL:P3D
REFRESH-INTERVAL:P3D
CALSCALE:GREGORIAN
BEGIN:VEVENT
DTSTART:20191218T140000Z
DTEND:20191218T153000Z
X-MICROSOFT-CDO-ALLDAYEVENT:FALSE
SUMMARY:Breaking Glass Leadership Series: Women's Barbell Classic
DESCRIPTION:Breaking Glass Leadership Series\n\n\n\nDecember's Breaking Glass\, sponsored by Holiday Inn Express & Suites   Mason City\, will encourage attendees to challenge their own notions of what it means to be strong   both mentally and physically. Held from 8-9:30AM on Wednesday\, December 18\, this session features Annie Brees and Abbie Mork\, founders of the Women's Barbell Classic.\n\n \n\nThe Women's Barbell Classic started as a movement to uplift and empower women involved in strength training. It invited women of all ages and disciplines (powerlifting\, CrossFit\, StrongMan\, or otherwise) to "join forces\, test their strength\, and connect with other powerful women." Proceeds from the Women's Barbell Classic support charitable women's organizations. The 2019 meet raised $20\,000 for the Young Women's Resource Center in Des Moines. Brees and Mork have now set their sights on empowering high school girls in the Des Moines metro area\, by offering a six week lifting program designed to build their strength and confidence.\n\n \n\nAttendees will hear about how Brees and Mork have pushed themselves to succeed as business women and mentors in a traditionally male-dominated field. Learn their advice for continuing to show up and succeed\, even when it feels like everyone around is saying\, "you don't belong here."\n\n \n\nTickets are $10 for Chamber members\, $20 for non-members. Contact Kativa Weitzel (kweitzel@masoncityia.com) to register.
X-ALT-DESC;FMTTYPE=text/html:<span style="font-size:16px\;"><span style="font-family:arial\;"><strong>Breaking Glass Leadership Series</strong></span></span><br />\n<br />\nDecember&rsquo\;s <strong><em>Breaking Glass</em></strong>\, sponsored by Holiday Inn Express &amp\; Suites &ndash\; Mason City\, will encourage attendees to challenge their own notions of what it means to be strong &ndash\; both mentally and physically. Held from 8-9:30AM on Wednesday\, December 18\, this session features Annie Brees and Abbie Mork\, founders of the Women&rsquo\;s Barbell Classic.<br />\n&nbsp\;<br />\nThe Women&rsquo\;s Barbell Classic started as a movement to uplift and empower women involved in strength training. It invited women of all ages and disciplines (powerlifting\, CrossFit\, StrongMan\, or otherwise) to &ldquo\;join forces\, test their strength\, and connect with other powerful women.&rdquo\; Proceeds from the Women&rsquo\;s Barbell Classic support charitable women&rsquo\;s organizations. The 2019 meet raised $20\,000 for the Young Women&rsquo\;s Resource Center in Des Moines. Brees and Mork have now set their sights on empowering high school girls in the Des Moines metro area\, by offering a six week lifting program designed to build their strength and confidence.<br />\n&nbsp\;<br />\nAttendees will hear about how Brees and Mork have pushed themselves to succeed as business women and mentors in a traditionally male-dominated field. Learn their advice for continuing to show up and succeed\, even when it feels like everyone around is saying\, &ldquo\;you don&rsquo\;t belong here.&rdquo\;<br />\n&nbsp\;<br />\nTickets are $10 for Chamber members\, $20 for non-members. Contact Kativa Weitzel (<a href="mailto:kweitzel@masoncityia.com">kweitzel@masoncityia.com</a>) to register.<br />\n&nbsp\;
LOCATION:North Iowa Regional Commerce Center 9 N Federal\, Mason City
UID:e.706.9291
SEQUENCE:3
DTSTAMP:20260424T185429Z
URL:https://business.masoncityia.com/events/details/breaking-glass-leadership-series-women-s-barbell-classic-9291
END:VEVENT

END:VCALENDAR
