BEGIN:VCALENDAR
VERSION:2.0
PRODID:-//ChamberMaster//Event Calendar 2.0//EN
METHOD:PUBLISH
X-PUBLISHED-TTL:P3D
REFRESH-INTERVAL:P3D
CALSCALE:GREGORIAN
BEGIN:VEVENT
DTSTART:20151001T163000Z
DTEND:20151001T180000Z
X-MICROSOFT-CDO-ALLDAYEVENT:FALSE
SUMMARY:Annual Meeting 2015
DESCRIPTION:Annual Award Recognition to be held October 1\, 2015. Projected attendance 275-325 business people. This annual event highlights the organization's accomplishments and recognizes individuals\, businesses and organizations for certain achievements. This luncheon event features "A Taste of North Iowa."
X-ALT-DESC;FMTTYPE=text/html:Annual Award Recognition to be held October 1\, 2015. Projected attendance 275-325 business people. This annual event highlights the organization&#39\;s accomplishments and recognizes individuals\, businesses and organizations for certain achievements. This luncheon event features &quot\;A Taste of North Iowa.&quot\;
LOCATION:The Music Man Square 308 South Pennsylvania Ave Mason City\, IA 50401
UID:e.706.3102
SEQUENCE:3
DTSTAMP:20260424T205616Z
URL:https://business.masoncityia.com/events/details/annual-meeting-2015-10-01-2015-3102
END:VEVENT

END:VCALENDAR
