BEGIN:VCALENDAR
VERSION:2.0
PRODID:-//ChamberMaster//Event Calendar 2.0//EN
METHOD:PUBLISH
X-PUBLISHED-TTL:P3D
REFRESH-INTERVAL:P3D
CALSCALE:GREGORIAN
BEGIN:VEVENT
DTSTART:20201127T160000Z
DTEND:20201127T200000Z
X-MICROSOFT-CDO-ALLDAYEVENT:FALSE
SUMMARY:Annual Black Friday American Red Cross Blood Drive
DESCRIPTION:The Mason City Family YMCA is hosting the American Red Cross for their annual Black Friday Blood Drive.  Schedule your blood donation now with the American Red Cross.
X-ALT-DESC;FMTTYPE=text/html:The Mason City Family YMCA is hosting the American Red Cross for their annual Black Friday Blood Drive.&nbsp\; Schedule your blood donation now with the American Red Cross.&nbsp\;&nbsp\;
LOCATION:Mason City Family YMCA 1840 S. Monroe Ave. Mason City\, IA 50401
UID:e.706.9795
SEQUENCE:3
DTSTAMP:20260422T115837Z
URL:https://business.masoncityia.com/events/details/annual-black-friday-american-red-cross-blood-drive-9795
END:VEVENT

END:VCALENDAR
