BEGIN:VCALENDAR
VERSION:2.0
PRODID:-//ChamberMaster//Event Calendar 2.0//EN
METHOD:PUBLISH
X-PUBLISHED-TTL:P3D
REFRESH-INTERVAL:P3D
CALSCALE:GREGORIAN
BEGIN:VEVENT
DTSTART:20230821T180000Z
DTEND:20230821T213000Z
X-MICROSOFT-CDO-ALLDAYEVENT:FALSE
SUMMARY:Ag Tour - Sukup Manufacturing
DESCRIPTION:The 2023 Ag Tour will be hosted by Sukup Manufacturing on Monday\, August 21.\n\n\n\nThe Ag Tour is an annual event led by the Chamber's Agribusiness Committee. The tour provides an opportunity for individuals to see and learn about various agricultural industries that are important in the North Iowa community.\n\n\n\nThe 2023 Ag Tour will be held at Sukup Manufacturing in Sheffield on Monday\, August 21st.\n\n\n\nNestled in Sheffield\, Iowa\, Sukup Manufacturing Co. is the world's largest family-owned and operated manufacturer of grain storage\, and grain drying and handling equipment. As an industry leader\, Sukup is constantly evolving! Following a tour of the plant\, there will be an additional tour of Steve Sukup's nearby farm. There will be a bus scheduled to transport tour-goers to and from the site.\n\n\n\nThe Ag Tour is organized by the Chamber's Agribusiness Committee. The tour provides an opportunity for individuals to see and learn about various agricultural industries that are important in the North Iowa community. The Ag Tour is FREE to attend thanks to generous sponsors!
X-ALT-DESC;FMTTYPE=text/html:The 2023 Ag Tour will be hosted by Sukup Manufacturing on Monday\, August 21.<br />\n<br />\nThe Ag Tour is an annual event led by the Chamber&rsquo\;s Agribusiness Committee. The tour provides an opportunity for individuals to see and learn about various agricultural industries that are important in the North Iowa community.<br />\n<br />\nThe 2023 Ag Tour will be held at Sukup Manufacturing in Sheffield on Monday\, August 21st.<br />\n<br />\nNestled in Sheffield\, Iowa\, Sukup Manufacturing Co. is the world&rsquo\;s largest family-owned and operated manufacturer of grain storage\, and grain drying and handling equipment. As an industry leader\, Sukup is constantly evolving! Following a tour of the plant\, there will be an additional tour of Steve Sukup&rsquo\;s nearby farm. There will be a bus scheduled to transport tour-goers to and from the site.<br />\n<br />\nThe Ag Tour is organized by the Chamber&rsquo\;s Agribusiness Committee. The tour provides an opportunity for individuals to see and learn about various agricultural industries that are important in the North Iowa community. The Ag Tour is FREE to attend thanks to generous sponsors!
LOCATION:Sukup Manufacturing 1555 255th Street Sheffield\, IA
UID:e.706.12469
SEQUENCE:3
DTSTAMP:20260424T132225Z
URL:https://business.masoncityia.com/events/details/ag-tour-sukup-manufacturing-12469
END:VEVENT

END:VCALENDAR
