BEGIN:VCALENDAR
VERSION:2.0
PRODID:-//ChamberMaster//Event Calendar 2.0//EN
METHOD:PUBLISH
X-PUBLISHED-TTL:P3D
REFRESH-INTERVAL:P3D
CALSCALE:GREGORIAN
BEGIN:VEVENT
DTSTART;VALUE=DATE:20250821
DTEND;VALUE=DATE:20250822
TRANSP:TRANSPARENT
X-MICROSOFT-CDO-ALLDAYEVENT:TRUE
SUMMARY:Ag Tour 2025: Hansen's Dairy Farm
DESCRIPTION:Hansen's Dairy Farm in Iowa is a seventh-generation family farm that's been in operation since 1864. As an Iowa Heritage Farm\, it has remained in the same family for over 150 years. You'll find a closed herd of 300 registered Holsteins here\, along with a unique Wagyu-Holstein beef program known for exceptional marbling and flavor. Since 2004\, the farm has processed its own milk on-site\, ensuring freshness in every product. During your visit\, you can take a hands-on tour\, see friendly kangaroos\, and get a true taste of life on a working dairy farm.\n\n\n\nDay-of Schedule (this is subject to change) \n\n10:00 AM   Depart from NIACC\n\nLocation: North Iowa Area Community College\n\n500 College Dr\, Mason City\, IA 50401\n\n12:00 PM   Lunch at Hansen's Dairy Farm\n\nLocation: 8461 Lincoln Rd\, Hudson\, IA 50643\n\n1:00 PM   Tour of Hansen's Dairy Farm\n\nDuration: Approximately 1.5 hours\n\n3:00 PM   Depart from Hansen's Dairy Farm\n\n4:30 PM   Arrive back at NIACC\n\nLocation: 500 College Dr\, Mason City\, IA 50401
X-ALT-DESC;FMTTYPE=text/html:<p data-end="124" data-start="105">Hansen&rsquo\;s Dairy Farm in Iowa is a seventh-generation family farm that&rsquo\;s been in operation since 1864. As an Iowa Heritage Farm\, it has remained in the same family for over 150 years. You&#39\;ll find a closed herd of 300 registered Holsteins here\, along with a unique Wagyu-Holstein beef program known for exceptional marbling and flavor. Since 2004\, the farm has processed its own milk on-site\, ensuring freshness in every product. During your visit\, you can take a hands-on tour\, see&nbsp\;friendly kangaroos\, and get a true taste of life on a working dairy farm.<br />\n<br />\n<strong data-end="124" data-start="105">Day-of Schedule (this is subject to change)&nbsp\;</strong></p>\n\n<p data-end="245" data-start="126"><strong data-end="138" data-start="126">10:00 AM</strong> &ndash\; Depart from NIACC<br data-end="161" data-start="158" />\n<em data-end="172" data-start="161">Location:</em> North Iowa Area Community College<br data-end="209" data-start="206" />\n500 College Dr\, Mason City\, IA 50401</p>\n\n<p data-end="338" data-start="247"><strong data-end="259" data-start="247">12:00 PM</strong> &ndash\; Lunch at Hansen&rsquo\;s Dairy Farm<br data-end="293" data-start="290" />\n<em data-end="304" data-start="293">Location:</em> 8461 Lincoln Rd\, Hudson\, IA 50643</p>\n\n<p data-end="419" data-start="340"><strong data-end="351" data-start="340">1:00 PM</strong> &ndash\; Tour of Hansen&rsquo\;s Dairy Farm<br data-end="384" data-start="381" />\n<em data-end="395" data-start="384">Duration:</em> Approximately 1.5 hours</p>\n\n<p data-end="469" data-start="421"><strong data-end="435" data-start="421">3:00 PM</strong> &ndash\; Depart from Hansen&rsquo\;s Dairy Farm</p>\n\n<p data-end="556" data-start="471"><strong data-end="482" data-start="471">4:30 PM</strong> &ndash\; Arrive back at NIACC<br data-end="508" data-start="505" />\n<em data-end="519" data-start="508">Location:</em> 500 College Dr\, Mason City\, IA 50401</p>\n
LOCATION:
UID:e.706.13953
SEQUENCE:3
DTSTAMP:20260424T221745Z
URL:https://business.masoncityia.com/events/details/ag-tour-2025-hansen-s-dairy-farm-13953
END:VEVENT

END:VCALENDAR
