BEGIN:VCALENDAR
VERSION:2.0
PRODID:-//ChamberMaster//Event Calendar 2.0//EN
METHOD:PUBLISH
X-PUBLISHED-TTL:P3D
REFRESH-INTERVAL:P3D
CALSCALE:GREGORIAN
BEGIN:VEVENT
DTSTART:20190320T120000Z
DTEND:20190320T133000Z
X-MICROSOFT-CDO-ALLDAYEVENT:FALSE
SUMMARY:Ag Breakfast 2019
DESCRIPTION:Now in its 37th year this agriculture appreciation event will be held March 20\, 2019 at THE MUSIC MAN SQUARE. The Ag Breakfast is a yearly event that brings together farm and business for an early morning breakfast served by Chamber Agribusiness Committee. Purchase your tickets today!\n\nAdditional details on the event and speaker bios can be found here.\n\n\n\nIf you know a farmer or farming family that goes above and beyond\, nominate them for the KGLO Farmer of the Year Award! https://www.kgloam.com/contests/kglo-1300-farmer-year-award/
X-ALT-DESC;FMTTYPE=text/html:<div data-block="true" data-editor="hf6q" data-offset-key="25omr-0-0" style="font-family: Helvetica\, Arial\, sans-serif\; color: rgb(29\, 33\, 41)\; font-size: 12px\; white-space: pre-wrap\;">\n<div class="_1mf _1mj" data-offset-key="25omr-0-0" style="position: relative\; direction: ltr\; font-family: inherit\;"><span data-offset-key="25omr-0-0" style="font-family: inherit\;">Now in its 37th year this agriculture appreciation event will be held March 20\, 2019 at THE MUSIC MAN SQUARE. The Ag Breakfast is a yearly event that brings together farm and business for an early morning breakfast served by Chamber Agribusiness Committee. Purchase your tickets today!</span><br />\nAdditional details on the event and speaker bios can be found <a href="https://masoncityia.com/index.php/events-view/ag-breakfast/">here</a>.</div>\n</div>\n\n<div data-block="true" data-editor="hf6q" data-offset-key="6upuq-0-0" style="font-family: Helvetica\, Arial\, sans-serif\; color: rgb(29\, 33\, 41)\; font-size: 12px\; white-space: pre-wrap\;">\n<div class="_1mf _1mj" data-offset-key="6upuq-0-0" style="position: relative\; direction: ltr\; font-family: inherit\;"><span data-offset-key="6upuq-0-0" style="font-family: inherit\;">If you know a farmer or farming family that goes above and beyond\, nominate them for the KGLO Farmer of the Year Award! https://www.kgloam.com/contests/kglo-1300-farmer-year-award/ </span>&nbsp\;</div>\n</div>\n
LOCATION:The Music Man Square
UID:e.706.8252
SEQUENCE:3
DTSTAMP:20260424T113347Z
URL:https://business.masoncityia.com/events/details/ag-breakfast-2019-8252
END:VEVENT

END:VCALENDAR
