BEGIN:VCALENDAR
VERSION:2.0
PRODID:-//ChamberMaster//Event Calendar 2.0//EN
METHOD:PUBLISH
X-PUBLISHED-TTL:P3D
REFRESH-INTERVAL:P3D
CALSCALE:GREGORIAN
BEGIN:VEVENT
DTSTART:20160316T120000Z
DTEND:20160316T130000Z
X-MICROSOFT-CDO-ALLDAYEVENT:FALSE
SUMMARY:Ag Breakfast 2016
DESCRIPTION:Annual appreciation event to be held March 16\, 2016 at the North Iowa Events Center.  Projected attendance: 400-500 people.  Ag Breakfast is a yearly event to bring farm and business together for an early morning breakfast served by Chamber Volunteers.  \n\n\n\nThis year's speaker is Ty Higgins\, host of the radio program Farm and Country.  Ty has spent almost 20 years in the broadcasting industry\, and brings together country music and farm knowledge in a way no one else can.
X-ALT-DESC;FMTTYPE=text/html:<span style="line-height: 20.79px\;">Annual appreciation event to be held March 16\, 2016 at the North Iowa Events Center. &nbsp\;Projected attendance: 400-500 people. &nbsp\;</span><strong style="line-height: 20.79px\;"><em>Ag Breakfast</em></strong><span style="line-height: 20.79px\;">&nbsp\;is a yearly event to bring farm and business together for an early morning breakfast served by Chamber Volunteers. &nbsp\;<br />\n<br />\nThis year&#39\;s speaker is Ty Higgins\, host of the radio program <em>Farm and Country</em>.&nbsp\; Ty has spent almost 20 years in the broadcasting industry\, and brings together country music and farm knowledge in a way no one else can.</span><br />\n&nbsp\;
LOCATION:All Seasons Building -- North Iowa Events Center
UID:e.706.3300
SEQUENCE:3
DTSTAMP:20260424T235540Z
URL:https://business.masoncityia.com/events/details/ag-breakfast-2016-03-16-2016-3300
END:VEVENT

END:VCALENDAR
