BEGIN:VCALENDAR
VERSION:2.0
PRODID:-//ChamberMaster//Event Calendar 2.0//EN
METHOD:PUBLISH
X-PUBLISHED-TTL:P3D
REFRESH-INTERVAL:P3D
CALSCALE:GREGORIAN
BEGIN:VEVENT
DTSTART:20190912T210000Z
DTEND:20190912T220000Z
X-MICROSOFT-CDO-ALLDAYEVENT:FALSE
SUMMARY:"A Taste of Russia" Info Session
DESCRIPTION:Join us for a no-obligation information session for the Chamber's Russia trip at 4PM on Thursday\, September 12 at the North Iowa Regional Commerce Center (9 N Federal Ave) in Mason City. \n\nThe Mason City Chamber of Commerce is offering a travel program to Russia\, April 23 - May 3\, 2020. This no-obligation information session will discuss the itinerary\, destinations and experiences that participants will encounter on the trip.\n\n\n\nPlease email Allyson Krull at akrull@masoncityia.com if you plan to attend. A reply is appreciated but not required - please stop on by to learn more about the trip!
X-ALT-DESC;FMTTYPE=text/html:<p class="BasicParagraph"><span style="font-size:14px\;"><span style="font-family:arial\;"><span style="line-height: 120%\;">Join us for a&nbsp\;no-obligation information session for the Chamber&#39\;s Russia trip at 4</span></span></span><span style="font-size:11.0pt\;\nline-height:120%\;font-family:&quot\;Segoe UI&quot\;\,sans-serif"><span style="font-size:14px\;"><span style="font-family:arial\;">PM</span></span><span style="font-size:14px\;"><span style="font-family:arial\;"> on Thursday\, September 12</span></span></span><span style="font-size:14px\;"><span style="font-family:arial\;"><span style="line-height: 120%\;">&nbsp\;at the North Iowa Regional Commerce Center (9 N Federal Ave) in Mason City.&nbsp\;</span></span></span></p>\n\n<p style="margin-top:7.5pt"><span style="font-family: arial\; font-size: 14px\;">The Mason City Chamber of Commerce is offering a travel program to Russia\, April 23 - May 3\, 2020.&nbsp\;</span><span style="font-size: 14px\;"><span style="font-family:arial\;">This&nbsp\;no-obligation information session&nbsp\;will discuss the itinerary\, </span></span><span style="font-size: 12px\;"><span style="font-family:arial\;"><span style="font-size:14px\;">destinations&nbsp\;</span></span></span><span style="font-size: 14px\;"><span style="font-family:arial\;">and experiences that participants will encounter on the trip.<br />\n<br />\nPlease email Allyson Krull at akrull@masoncityia.com if you plan to attend. A reply is appreciated but not required - please stop on by to learn more about the trip!</span></span></p>\n
LOCATION:Board Room | 2nd Floor North Iowa Regional Commerce Center 9 N Federal Ave | Mason City
UID:e.706.8886
SEQUENCE:3
DTSTAMP:20260425T004001Z
URL:https://business.masoncityia.com/events/details/a-taste-of-russia-info-session-8886
END:VEVENT

END:VCALENDAR
