BEGIN:VCALENDAR
VERSION:2.0
PRODID:-//ChamberMaster//Event Calendar 2.0//EN
METHOD:PUBLISH
X-PUBLISHED-TTL:P3D
REFRESH-INTERVAL:P3D
CALSCALE:GREGORIAN
BEGIN:VEVENT
DTSTART:20240817T000000Z
DTEND:20240817T040000Z
X-MICROSOFT-CDO-ALLDAYEVENT:FALSE
SUMMARY:2024 Moonlight Bike Ride
DESCRIPTION:The 2024 Moonlight Bike Ride will be held on Friday\, August 16\, 2024!\n\n\n\nCome downtown at 7PM for registration and the activity center before embarking on a 8-mile loop through Mason City under the light of the summer moon!\n\n\n\nSchedule: \n\n8PM - Registration in Central Park. Feel free to park your car in the City Hall Parking Lot!\n\n\n\n8-9PM - Music\, glow in the dark decorations\, and more!\n\n\n\n9PM - Riders embark on an 8-mile loop.\n\n\n\n10PM-11:30PM - Riders will enjoy food (included in the fee) TBD! \n\n\n\nAll riders are required to sign a safety waiver and wear a helmet.
X-ALT-DESC;FMTTYPE=text/html:<p><span style="font-size:12px\;"><span style="font-family: Roboto\, sans-serif\;">The 2024 Moonlight Bike Ride will be held on Friday\, August 16\, 2024!</span><br style="font-family: Roboto\, sans-serif\;" />\n<br style="font-family: Roboto\, sans-serif\;" />\n<span style="font-family: Roboto\, sans-serif\;">Come downtown at 7PM for registration and the activity center before embarking on a 8-mile loop through Mason City under the light of the summer moon!</span><br style="font-family: Roboto\, sans-serif\;" />\n<br />\nSchedule:&nbsp\;<br style="font-family: Roboto\, sans-serif\;" />\n<span style="font-family: Roboto\, sans-serif\;">8PM - Registration in Central Park. Feel free to park your car in the City Hall Parking Lot!</span><br style="font-family: Roboto\, sans-serif\;" />\n<br style="font-family: Roboto\, sans-serif\;" />\n<span style="font-family: Roboto\, sans-serif\;">8-9PM - Music\, glow in the dark decorations\, and more!</span><br style="font-family: Roboto\, sans-serif\;" />\n<br style="font-family: Roboto\, sans-serif\;" />\n<span style="font-family: Roboto\, sans-serif\;">9PM - Riders embark on an 8-mile loop.</span><br style="font-family: Roboto\, sans-serif\;" />\n<br style="font-family: Roboto\, sans-serif\;" />\n<span style="font-family: Roboto\, sans-serif\;">10PM-11:30PM - Riders will enjoy food (included in the fee) TBD!&nbsp\;</span><br style="font-family: Roboto\, sans-serif\;" />\n<br style="box-sizing: border-box\; color: rgb(68\, 68\, 68)\; font-family: Arial\, Helvetica\, sans-serif\; font-size: 15px\; background-color: rgb(243\, 243\, 243)\;" />\n<strong><span style="color: rgb(68\, 68\, 68)\; font-family: Arial\, Helvetica\, sans-serif\;">All riders are required to sign a safety waiver and wear a helmet.</span></strong></span></p>\n
LOCATION:
UID:e.706.13183
SEQUENCE:3
DTSTAMP:20260425T004639Z
URL:https://business.masoncityia.com/events/details/2024-moonlight-bike-ride-13183
END:VEVENT

END:VCALENDAR
